BEGIN:VCALENDAR
VERSION:2.0
PRODID:-//ChamberMaster//Event Calendar 2.0//EN
METHOD:PUBLISH
X-PUBLISHED-TTL:P3D
REFRESH-INTERVAL:P3D
CALSCALE:GREGORIAN
BEGIN:VEVENT
DTSTART:20220922T184500Z
DTEND:20220922T200000Z
X-MICROSOFT-CDO-ALLDAYEVENT:FALSE
SUMMARY:Grand Opening and Ribbon Cutting - Compass Investment Advisors
DESCRIPTION:Join Compass Investment Advisors for the Grand Opening and Ribbon Cutting of their new location in Millville on Thursday\, September 22nd.  \n\n\n\nCompass is an independent financial planning and investment management firm committed to delivering first class planning advice\, a risk-managed investment process\, and the highest level of client service from our offices in Dover DE\, Newark DE and Millville\, DE. Compass is located at 32828 Reba Rd. Suite B in Millville\, DE.  \n\n\n\nStop by on Thursday\, September 22nd to meet the Compass experts\, and enjoy refreshments provided by Kristina's Kitchen.
X-ALT-DESC;FMTTYPE=text/html:<span style="font-family:arial\;"><span style="font-size:14px\;"><span style="box-sizing: content-box\; inset: auto\; clear: none\; content: normal\; direction: inherit\; empty-cells: show\; font-variant-numeric: inherit\; font-variant-east-asian: inherit\; font-stretch: inherit\; line-height: inherit\; margin: 0px\; max-height: none\; max-width: none\; min-height: initial\; min-width: initial\; opacity: 1\; outline-offset: 0px\; overflow: visible\; padding: 0px\; position: static\; resize: none\; table-layout: auto\; text-overflow: clip\; vertical-align: baseline\; visibility: inherit\; word-break: inherit\; overflow-wrap: inherit\; z-index: auto\; background-image: none\; background-position: initial\; background-size: initial\; background-repeat: initial\; background-attachment: initial\; background-origin: initial\; background-clip: initial\; border-width: initial\; border-style: none\; border-color: initial\; border-collapse: separate\; border-image: none 100% 1 0 / 1 / 0 stretch\; border-radius: 0px\; height: auto\; width: auto\; box-shadow: none\;">Join Compass Investment Advisors for the Grand Opening and Ribbon Cutting of their new location in Millville on Thursday\, September 22nd.&nbsp\;&nbsp\;</span></span><br />\n<br />\n<span style="font-size:14px\;">Compass is an independent financial planning and investment management firm committed to delivering first class planning advice\, a risk-managed investment process\, and the highest level of client service from our offices in Dover DE\, Newark DE and Millville\, DE. Compass&nbsp\;<span style="background-color: transparent\;">is located at 32828 Reba Rd. Suite B in Millville\, DE.&nbsp\;&nbsp\;</span></span></span><br />\n<br />\n<span style="font-family:arial\;"><span style="font-size: 14px\; color: rgb(0\, 0\, 0)\; background-color: transparent\;">Stop by on Thursday\, September 22nd&nbsp\;to&nbsp\;meet the&nbsp\;Compass experts\, and enjoy refreshments provided by Kristina&#39\;s Kitchen.</span></span>
LOCATION:Compass Investment Advisors 32828 Reba Rd. Millville\, DE 19967
UID:e.2126.24167
SEQUENCE:3
DTSTAMP:20260421T173312Z
URL:http://business.thequietresorts.com/events/details/grand-opening-and-ribbon-cutting-compass-investment-advisors-24167
END:VEVENT

END:VCALENDAR
