BEGIN:VCALENDAR
VERSION:2.0
PRODID:-//ChamberMaster//Event Calendar 2.0//EN
METHOD:PUBLISH
X-PUBLISHED-TTL:P3D
REFRESH-INTERVAL:P3D
CALSCALE:GREGORIAN
BEGIN:VEVENT
DTSTART:20240322T193000Z
DTEND:20240322T203000Z
X-MICROSOFT-CDO-ALLDAYEVENT:FALSE
SUMMARY:GPL Kids: Women of Delaware History
DESCRIPTION:Did you know that Delaware has a Women's Hall of Fame?\n\nFrom the mother of Delaware's chicken industry to the most famous woman astronomer in the U.S.\, our small state has had a long list of extraordinary women!\n\nJoin us as we explore this list of women\, their lives\, and the reasons they were inducted into our Hall of Fame.
X-ALT-DESC;FMTTYPE=text/html:<p>Did you know that Delaware has a <strong>Women&rsquo\;s Hall of Fame?</strong></p>\n\n<p>From the mother of Delaware&rsquo\;s chicken industry to the most famous woman astronomer in the U.S.\, our small state has had a long list of extraordinary women!</p>\n\n<p>Join us as we explore this list of women\, their lives\, and the reasons they were inducted into our Hall of Fame.</p>\n
LOCATION:Georgetown Public Library 123 West Pine St. Georgetown\, DE 19947
UID:e.2126.28279
SEQUENCE:3
DTSTAMP:20260420T074430Z
URL:http://business.thequietresorts.com/events/details/gpl-kids-women-of-delaware-history-03-22-2024-28279
END:VEVENT

END:VCALENDAR
