BEGIN:VCALENDAR
VERSION:2.0
PRODID:-//ChamberMaster//Event Calendar 2.0//EN
METHOD:PUBLISH
X-PUBLISHED-TTL:P3D
REFRESH-INTERVAL:P3D
CALSCALE:GREGORIAN
BEGIN:VEVENT
DTSTART:20240504T230000Z
DTEND:20240505T200000Z
X-MICROSOFT-CDO-ALLDAYEVENT:FALSE
SUMMARY:Goosebumps: the Musical at Art League of Ocean City
DESCRIPTION:The Lower Shore Performing Arts Company returns to the Art League of Ocean City's main gallery! Get ready to feel the thrill in every note - Goosebumps: The Musical is here to send shivers down your spine.\n\nProceeds to benefit the LSPAC and Art League of Ocean City. Tickets are $25 each.\n\nShowings:\n\nSaturday\, May 4 from 7-9pm\n\nSunday\, May 5 from 2-4pm
X-ALT-DESC;FMTTYPE=text/html:<p>The Lower Shore Performing Arts Company returns to the Art League of Ocean City&#39\;s main gallery! Get ready to feel the thrill in every note - Goosebumps: The Musical is here to send shivers down your spine.</p>\n\n<p>Proceeds to benefit the LSPAC and Art League of Ocean City. Tickets are $25 each.</p>\n\n<p>Showings:</p>\n\n<p><a href="https://www.eventbrite.com/e/865577965997?aff=oddtdtcreator" rel="noopener" style="color: rgb(0\, 148\, 215)\; box-sizing: border-box\; background: transparent\; text-decoration-line: none\;" target="_blank">Saturday\, May 4 from 7-9pm</a></p>\n\n<p><a href="https://www.eventbrite.com/e/865591777307?aff=oddtdtcreator" rel="noopener" style="color: rgb(0\, 148\, 215)\; box-sizing: border-box\; background: transparent\; text-decoration-line: none\;" target="_blank">Sunday\, May 5 from 2-4pm</a></p>\n
LOCATION:Art League of Ocean City 502 94th Street Ocean City\, MD 21842
UID:e.2126.28624
SEQUENCE:3
DTSTAMP:20260420T043404Z
URL:http://business.thequietresorts.com/events/details/goosebumps-the-musical-at-art-league-of-ocean-city-28624
END:VEVENT

END:VCALENDAR
