BEGIN:VCALENDAR
VERSION:2.0
PRODID:-//ChamberMaster//Event Calendar 2.0//EN
METHOD:PUBLISH
X-PUBLISHED-TTL:P3D
REFRESH-INTERVAL:P3D
CALSCALE:GREGORIAN
BEGIN:VEVENT
DTSTART:20220728T233000Z
DTEND:20220729T010000Z
X-MICROSOFT-CDO-ALLDAYEVENT:FALSE
SUMMARY:Good Shot Judy
DESCRIPTION:Good Shot Judy specializes in delivering top- notch Classic Vocal Jazz and recreating the nightclub entertainment feel of Las Vegas in its prime. Think Frank Sinatra\, Dean Martin\, Count Basie\, glitz\, and glamour. Real entertainment from an era that was not only filled with great singers\, performers\, and great songs\, but whose legacy has become synonymous with what great entertainment really is. https://goodshotjudy.com
X-ALT-DESC;FMTTYPE=text/html:<span dir="ltr" style="font-family:sans-serif\; font-size:13.4px">Good Shot Judy</span><span dir="ltr" style="font-family:sans-serif\; font-size:13.4px"> specializes in</span><span dir="ltr" style="font-family:sans-serif\; font-size:13.4px"> delivering top</span><span dir="ltr" style="font-family:sans-serif\; font-size:13.4px">-</span><span dir="ltr" style="font-family:sans-serif\; font-size:13.4px"> notch Classic Vocal Jazz and recreating</span><span dir="ltr" style="font-family:sans-serif\; font-size:13.4px"> the</span><span dir="ltr" style="font-family:sans-serif\; font-size:13.4px"> </span><span dir="ltr" style="font-family:sans-serif\; font-size:13.4px">nightclub entertainment feel of Las</span><span dir="ltr" style="font-family:sans-serif\; font-size:13.4px"> Vegas in its prime. Thin</span><span dir="ltr" style="font-family:sans-serif\; font-size:13.4px">k Frank Sinatra\,</span><span dir="ltr" style="font-family:sans-serif\; font-size:13.4px"> Dean Martin\, Count Basie\,</span><span dir="ltr" style="font-family:sans-serif\; font-size:13.4px"> </span><span dir="ltr" style="font-family:sans-serif\; font-size:13.4px">glitz\,</span><span dir="ltr" style="font-family:sans-serif\; font-size:13.4px"> </span><span dir="ltr" style="font-family:sans-serif\; font-size:13.4px">and</span><span dir="ltr" style="font-family:sans-serif\; font-size:13.4px"> glamour. Real entertainment from an era</span><span dir="ltr" style="font-family:sans-serif\; font-size:13.4px"> that was not only filled with great</span><span dir="ltr" style="font-family:sans-serif\; font-size:13.4px"> singers\, performers\, and great songs\, but</span><span dir="ltr" style="font-family:sans-serif\; font-size:13.4px"> whose legacy has become synonymous</span><span dir="ltr" style="font-family:sans-serif\; font-size:13.4px"> with what great entertainment really is.</span><span dir="ltr" style="font-family:sans-serif\; font-size:13.4px"> https://goodshotjudy.com</span>
LOCATION:Bethany Beach Bandstand Garfield Parkway & Boardwalk\, Bethany Beach
UID:e.2126.23766
SEQUENCE:3
DTSTAMP:20260421T204718Z
URL:http://business.thequietresorts.com/events/details/good-shot-judy-23766
END:VEVENT

END:VCALENDAR
