BEGIN:VCALENDAR
VERSION:2.0
PRODID:-//ChamberMaster//Event Calendar 2.0//EN
METHOD:PUBLISH
X-PUBLISHED-TTL:P3D
REFRESH-INTERVAL:P3D
CALSCALE:GREGORIAN
BEGIN:VEVENT
DTSTART:20231114T160000Z
DTEND:20231114T190000Z
X-MICROSOFT-CDO-ALLDAYEVENT:FALSE
SUMMARY:Global Entrepreneurship Week with SBDC
DESCRIPTION:You're invited to Global Entrepreneurship Week at Delaware State University College of Business to learn the importance of expanding your business by leveraging the world's talent and goods.\n\n\n\nThe World is your Market: Entrepreneurial Strategies for Growth features insight from Investors\, Executives\, Professionals and an Editor in Chief.\n\n\n\nLunch will be provided.
X-ALT-DESC;FMTTYPE=text/html:You&#39\;re invited to Global Entrepreneurship Week at Delaware State University College of Business to learn the importance of expanding your business by leveraging the world&#39\;s talent and goods.<br />\n<br />\nThe World is your Market: Entrepreneurial Strategies for Growth features insight from Investors\, Executives\, Professionals and an Editor in Chief.<br />\n<br />\nLunch will be provided.
LOCATION:DE State University College of Business 1200 N. Dupont Hwy. BOA Room 309 Dover\, DE 19901
UID:e.2126.27133
SEQUENCE:3
DTSTAMP:20260420T164712Z
URL:http://business.thequietresorts.com/events/details/global-entrepreneurship-week-with-sbdc-27133
END:VEVENT

END:VCALENDAR
