BEGIN:VCALENDAR
VERSION:2.0
PRODID:-//ChamberMaster//Event Calendar 2.0//EN
METHOD:PUBLISH
X-PUBLISHED-TTL:P3D
REFRESH-INTERVAL:P3D
CALSCALE:GREGORIAN
BEGIN:VEVENT
DTSTART:20221129T140000Z
DTEND:20221129T230000Z
X-MICROSOFT-CDO-ALLDAYEVENT:FALSE
SUMMARY:Giving Tuesday at the Art League of OC
DESCRIPTION:The Art League Gives Back on Giving Tuesday!\n\n\n\nWe have a day for giving thanks. We have Black Friday and Cyber Monday two days for "getting deals." Now\, we have Giving Tuesday\, a global day dedicated to giving back. Celebrate generosity and help us make an impact by giving to the Art League of Ocean City on November 29th. Visit shoregivesmore.org/artleagueofoceancity to donate!\n\nSchedule of FREE Events on Nov. 29\n\n9:30-11 am: Guests can drop in for morning coffee\, friendly conversation\, an offering of baked goods\, and a tour through the gallery exhibits.\n\n10 am-12:30 pm: Instructor Barbara Buford will show guests how to create personalized holiday greeting cards.\n\n1-5 pm: Guests and after-school children can create colorful holiday ornaments including Santa paint brushes and snowman tree toppers.\n\n4-6 pm: Art League Executive Director Rina Thaler will host a "Wine and Design" happy hour where guests can create their own mini masterpieces while enjoying a complimentary glass of wine.\n\n\nArt League of Ocean City\n\n502 94th Street Ocean City\, MD 21842\n\n410-524-9433\n\nOCArt.org
X-ALT-DESC;FMTTYPE=text/html:<p>The Art League Gives Back on Giving Tuesday!<br />\n<br />\nWe have a day for giving thanks. We have Black Friday and Cyber Monday&mdash\;two days for &ldquo\;getting deals.&rdquo\; Now\, we have Giving Tuesday\, a global day dedicated to giving back. Celebrate generosity and help us make an impact by giving to the Art League of Ocean City on November 29th. Visit shoregivesmore.org/artleagueofoceancity to donate!</p>\n\n<p>Schedule of FREE Events on Nov. 29</p>\n\n<p>9:30-11 am: Guests can drop in for morning coffee\, friendly conversation\, an offering of baked goods\, and a tour through the gallery exhibits.</p>\n\n<p>10 am-12:30 pm: Instructor Barbara Buford will show guests how to create personalized holiday greeting cards.</p>\n\n<p>1-5 pm: Guests and after-school children can create colorful holiday ornaments including Santa paint brushes and snowman tree toppers.</p>\n\n<p>4-6 pm: Art League Executive Director Rina Thaler will host a &ldquo\;Wine and Design&rdquo\; happy hour where guests can create their own mini masterpieces while enjoying a complimentary glass of wine.</p>\n\n<div>\n<p>Art League of Ocean City<br />\n502 94th Street Ocean City\, MD 21842<br />\n410-524-9433<br />\nOCArt.org</p>\n</div>\n
LOCATION:Art League of Ocean City 502 94th Street Ocean City\, MD 21842 410-524-9433 OCArt.org
UID:e.2126.24869
SEQUENCE:3
DTSTAMP:20260421T142551Z
URL:http://business.thequietresorts.com/events/details/giving-tuesday-at-the-art-league-of-oc-24869
END:VEVENT

END:VCALENDAR
