BEGIN:VCALENDAR
VERSION:2.0
PRODID:-//ChamberMaster//Event Calendar 2.0//EN
METHOD:PUBLISH
X-PUBLISHED-TTL:P3D
REFRESH-INTERVAL:P3D
CALSCALE:GREGORIAN
BEGIN:VEVENT
DTSTART:20240328T210000Z
DTEND:20240328T220000Z
X-MICROSOFT-CDO-ALLDAYEVENT:FALSE
SUMMARY:Girl Scout Cookie & Beer Pairing With Dewey Beer Co. at Banks
DESCRIPTION:Do you love beer? How about Girl Scout cookies? Now you can love them both at the exact same time. We have partnered with Gar Bercury from Dewey Beer Co to create a tasty pairing with some of your favorite Girl Scout cookies. Join us on March 28th 5-6pm in The Vault. Seats are limited.  Each guest will take home a 4pk or single serve 500ml bottle and their favorite box of cookies that are featured during the event. Tickets are $40 per person.
X-ALT-DESC;FMTTYPE=text/html:<p><span style="font-size:14px\;"><span style="font-family:arial\;">Do you love beer? How about Girl Scout cookies? Now you can love them both at the exact same time. We have partnered with Gar Bercury from Dewey Beer Co to create a tasty pairing with some of your favorite Girl Scout cookies. Join us on <strong>March 28th 5-6pm in The Vault</strong>. Seats are limited.&nbsp\; Each guest will take home a 4pk or single serve 500ml bottle and their favorite box of cookies that are featured during the event. Tickets are $40 per person.</span></span></p>\n
LOCATION:The Vault @ Banks Wines & Spirits 38014 Town Center Dr. Millville\, DE 19967 * Located in the Giant Grocery Store Shopping Center on 26
UID:e.2126.28547
SEQUENCE:3
DTSTAMP:20260420T075028Z
URL:http://business.thequietresorts.com/events/details/girl-scout-cookie-beer-pairing-with-dewey-beer-co-at-banks-28547
END:VEVENT

END:VCALENDAR
