BEGIN:VCALENDAR
VERSION:2.0
PRODID:-//ChamberMaster//Event Calendar 2.0//EN
METHOD:PUBLISH
X-PUBLISHED-TTL:P3D
REFRESH-INTERVAL:P3D
CALSCALE:GREGORIAN
BEGIN:VEVENT
DTSTART:20200731T210000Z
DTEND:20200801T010000Z
X-MICROSOFT-CDO-ALLDAYEVENT:FALSE
SUMMARY:Get Down in Town
DESCRIPTION:Schell Brothers presents Get Down in Town. Stop and shop in downtown Rehoboth Beach to help support the local business community. Shop more for more chances to win prizes.\n\n\n\nStop by our tent in First Street Station to show us your receipts after your dining & shopping spree and we will give you one raffle ticket for every $20 you spent around town. Two first prize winners will receive $5\,000 worth of local gift cards each! Our second prize winner will receive $1\,000 worth of gift cards and third prize will receive $500 worth of gift cards.\n\n\n\nWe will hold a raffle drawing via Facebook Live on Monday\, August 3rd at noon. All winners will be notified.\n\n\n\nPlease note: All restaurants and stores will require masks to enter and will be adhering to all occupancy limits and safe social distancing procedures.\n\n\n\nGet Down in Town Facebook Page
X-ALT-DESC;FMTTYPE=text/html:<span style="font-family: arial\;"><span style="font-size: 14px\;">Schell Brothers presents Get Down in Town. Stop and shop in downtown Rehoboth Beach to help support the local business community. Shop more for more chances to win prizes.<br />\n<br />\nStop by our tent in First Street Station to show us your receipts after your dining &amp\; shopping spree and we will give you one raffle ticket for every $20 you spent around town. Two first prize winners will receive $5\,000 worth of local gift cards each! Our second prize winner will receive $1\,000 worth of gift cards and third prize will receive $500 worth of gift cards.<br />\n<br />\nWe will hold a raffle drawing via Facebook Live on Monday\, August 3rd at noon. All winners will be notified.<br />\n<br />\nPlease note: All restaurants and stores will require masks to enter and will be adhering to all occupancy limits and safe social distancing procedures.<br />\n<br />\n<a href="https://www.facebook.com/events/1897369717066465/?active_tab=about" target="_blank">Get Down in Town Facebook Page</a></span></span>
LOCATION:Downtown Rehoboth Beach Schell Brothers tent will be located at First Street Station 70 Rehoboth Ave\, Rehoboth Beach\, DE 19971
UID:e.2126.21709
SEQUENCE:3
DTSTAMP:20260425T162916Z
URL:http://business.thequietresorts.com/events/details/get-down-in-town-21709
END:VEVENT

END:VCALENDAR
