BEGIN:VCALENDAR
VERSION:2.0
PRODID:-//ChamberMaster//Event Calendar 2.0//EN
METHOD:PUBLISH
X-PUBLISHED-TTL:P3D
REFRESH-INTERVAL:P3D
CALSCALE:GREGORIAN
BEGIN:VEVENT
DTSTART:20230520T140000Z
DTEND:20230520T160000Z
X-MICROSOFT-CDO-ALLDAYEVENT:FALSE
SUMMARY:Gardening for Butterflies: Beyond Milkweed and Coneflowers
DESCRIPTION:You've been growing milkweed and adding perennials that attract a few butterflies to your garden. Are you ready to "branch out" and try even more plants? Join Margaret Kimmel\, a lead butterfly volunteer at the Delaware Botanic Gardens\, to discuss nectar and host plants (both annuals and perennials) for a more diverse butterfly population.  Learn why shrubs and trees can be an important part of your pollinator habitat. It's actually easy and fun to turn a few flowerpots\, a garden bed or your entire yard into a richer and more diverse habitat where butterflies don't just visit\, they produce the next generation!!!\n\nclick here for tickets!
X-ALT-DESC;FMTTYPE=text/html:<p><span style="color:rgb(111\, 114\, 135)\; font-family:neue plak\,-apple-system\,system-ui\,roboto\,helvetica neue\,helvetica\,tahoma\,arial\,sans-serif\; font-size:16px">You&rsquo\;ve been growing milkweed and adding perennials that attract a few butterflies to your garden.&nbsp\;Are you ready to &quot\;branch out&quot\;&nbsp\;and try&nbsp\;even more plants? Join Margaret Kimmel\, a lead butterfly volunteer at the Delaware Botanic Gardens\, to discuss nectar and host plants (both annuals and perennials) for a more diverse butterfly population.&nbsp\; Learn why shrubs and trees can be an important part of your pollinator habitat. It&rsquo\;s actually easy and fun to turn a&nbsp\;few flowerpots\, a garden bed or your entire yard&nbsp\;into a richer and more diverse habitat where butterflies don&rsquo\;t just visit\, they produce&nbsp\;the next generation!!!</span></p>\n\n<p><a href="https://www.eventbrite.com/e/gardening-for-butterflies-beyond-milkweed-and-coneflowers-tickets-600666578907">click here for tickets!</a></p>\n\n<p>&nbsp\;</p>\n
LOCATION:Inland Bays Garden Center 38320 Muddy Neck Road Frankford\, DE 19945
UID:e.2126.25559
SEQUENCE:3
DTSTAMP:20260421T024057Z
URL:http://business.thequietresorts.com/events/details/gardening-for-butterflies-beyond-milkweed-and-coneflowers-25559
END:VEVENT

END:VCALENDAR
