BEGIN:VCALENDAR
VERSION:2.0
PRODID:-//ChamberMaster//Event Calendar 2.0//EN
METHOD:PUBLISH
X-PUBLISHED-TTL:P3D
REFRESH-INTERVAL:P3D
CALSCALE:GREGORIAN
BEGIN:VEVENT
DTSTART:20200209T180000Z
DTEND:20200209T210000Z
X-MICROSOFT-CDO-ALLDAYEVENT:FALSE
SUMMARY:Galentine's Floral Arranging Soiree with Little Miss Lovely
DESCRIPTION:Join us at Bear Trap on Sunday\, February 9th for a Galentine's Soiree with Ami of Little Miss Lovely! Gather your girlfriends and get ready to celebrate during an afternoon of fun. Galentine's Day is all about celebrating friendships\, enjoying sweet treats\, crafting\, and toasting the great GALS in our lives.\n\n\n\nThe Galentine's Day Soiree begins at 1:00 pm and runs until 4:00 pm.\n\n\n\nLittle Miss Lovely will supply an assortment of fresh florals\, greenery\, and all the materials you'll need to create your very own small flower arrangement! With guidance and instruction from LML\, you'll design a 'LOVELY' seasonal floral arrangement to enjoy at home.\n\n\n\nLight hors d'oeuvres\, sweets station\, champagne and beverages will be provided. \n\n\n\nA fun photo booth will be set up for guests to snap pics with their best gal-friends and their floral creations.\n\n\n\nLimited spots available. Adults only\, please.\n\n\n\nThis event will take place at Bear Trap Dunes:\n\n7 Clubhouse Drive\, Ocean View DE 19970. (Tons of free parking is available out front).\n\n\n\n*This event is non-refundable or transferable due to limited seating. Please register as soon as possible to ensure the most beautiful blooms can be selected for our soiree! \n\n\n\nCheers\, gals!
X-ALT-DESC;FMTTYPE=text/html:<span style="font-size:14px"><span style="font-family:arial\,helvetica\,sans-serif"><strong>Join us at Bear Trap on Sunday\, February 9<sup>th</sup> for a <span style="color:#FF0000">Galentine&rsquo\;s Soiree </span>with Ami of <span style="color:#ff0099">Little Miss Lovely! </span></strong>Gather your girlfriends and get ready to celebrate during an afternoon of fun. Galentine&#39\;s Day is all about celebrating friendships\, enjoying sweet treats\, crafting\, and toasting the great GALS in our lives.<br />\n<br />\n<span style="color:#1D2129">The Galentine&#39\;s Day Soiree begins at 1:00 pm and runs until 4:00 pm.<br />\n<br />\n<strong>Little Miss Lovely will supply an assortment of fresh florals\, greenery\, and all the materials you&#39\;ll need to create your very own small flower arrangement! With guidance and instruction from LML\, you&#39\;ll design a &lsquo\;LOVELY&rsquo\; seasonal floral arrangement to enjoy at home.<br />\n<br />\nLight hors d&#39\;oeuvres\, sweets station\, champagne and beverages will be provided. </strong><br />\n<br />\nA fun photo booth will be set up for guests to snap pics with their best gal-friends and their floral creations.<br />\n<br />\nLimited spots available. Adults only\, please.<br />\n<br />\nThis event will take place at Bear Trap Dunes:<br />\n7 Clubhouse Drive\, Ocean View DE 19970. (Tons of free parking is available out front).<br />\n<br />\n*This event is non-refundable or transferable due to limited seating. <strong>Please register as soon as possible to ensure the most beautiful blooms can be selected for our soiree! </strong></span><br />\n<br />\n<span style="color:#FF0000"><strong>Cheers\, gals!&nbsp\;</strong></span></span></span><br />\n&nbsp\;
LOCATION:Bear Trap Dunes 7 Clubhouse Drive Ocean View\, DE 19970
UID:e.2126.20046
SEQUENCE:3
DTSTAMP:20260426T003852Z
URL:http://business.thequietresorts.com/events/details/galentine-s-floral-arranging-soiree-with-little-miss-lovely-20046
END:VEVENT

END:VCALENDAR
