BEGIN:VCALENDAR
VERSION:2.0
PRODID:-//ChamberMaster//Event Calendar 2.0//EN
METHOD:PUBLISH
X-PUBLISHED-TTL:P3D
REFRESH-INTERVAL:P3D
CALSCALE:GREGORIAN
BEGIN:VEVENT
DTSTART:20220205T190000Z
DTEND:20220206T050000Z
X-MICROSOFT-CDO-ALLDAYEVENT:FALSE
SUMMARY:Fundraiser for Paul Daisey
DESCRIPTION:Fundraiser for Paul Daisey\n\n\n\nJoin us for a great cause\n\nSaturday\, February 5th\n\n3:00pm until\n\n\nSpecials: \n\nWings - 5 wings - $5.20 (Paul's Birthday is May 2)\n\nNatty Lights - $2.50\n\nHappy Hour Food and Drink - 3:00-6:00pm\n\n\n\nEntertainment:\n\nTaylor Knox  3:00-5:30pm\n\nDJ Wax  6:30pm until\n\n\n\nSilent Auction  3:00-8:00pm\n\n50/50 Raffle\n\nPaul Daisey GOFUNDME #DAISEYSTRONG\n\nLive Auction  5:30pm\n\n\n\nLive Auction Items: \n1. Woman Anglers on the Wrecker Sportsfishing for 6 women\, Jeremy Blunt\n\n2. Gourmet Dinner for 10 w Chef Mikey J\, Mikey Johnston\n\n3. Deep Sea Fishing on the Playmate Sportsfishing for 6\, Jeremy Shanroski\n\n4. Typsy Tiki Cruise for 6\, Laurie Daily\n\n5. Shrimp Boil for up to 30\, RJ Kauffman & Hocker's Super Center\n\n6. 3 hr Boat Bar Crawl for 4\, Bryan Keith of Mio Fratellos\n\n7. Pig Roast for 50\, Tommy Adkins (1-eye Roasts)\n\n8. Duck/Brant Hunt for 6\, Icebreaker Waterfowl & Lucky Break Charters\n\n9. Hatteras House and fishing Trip for 4\, Glen Cave (Cave Construction)\n\n10. 1 week vacation in OBX for up to 12 people\, Lori Martin Murphy\n\n11. $3000 worth of Landscaping!\, Mike Lord\, Lord & Sons Landscaping\n\n12. Hunter/Angler package (Raven's Crossbow\, 1 pallet of feed corn\, a Sitka Gear jacket\, a Rod and Reel.)\n\n\nTons of Local donations:  Lift Kits   Caps tix   Family Surf Lessons   Mini photo shoot\n\n\n\nSponsored by: \n\nThe Salted Rim Margarita Bar & Grille\n\nSmitty McGee's Raw Bar
X-ALT-DESC;FMTTYPE=text/html:<div style="text-align:center"><span style="font-size:20px"><span style="font-family:comic sans ms"><strong><span style="color:#0000CD"><em>Fundraiser for Paul Daisey</em></span></strong></span></span></div>\n\n<div style="text-align:center"><br />\nJoin us for a great cause</div>\n\n<div style="text-align:center">Saturday\, February 5th<br />\n3:00pm until</div>\n<br />\n<strong>Specials:</strong>&nbsp\;<br />\nWings - 5 wings - $5.20 (Paul&#39\;s Birthday is May 2)<br />\nNatty Lights - $2.50<br />\nHappy Hour Food and Drink - 3:00-6:00pm<br />\n<br />\n<strong>Entertainment:</strong><br />\nTaylor Knox&nbsp\; 3:00-5:30pm<br />\nDJ Wax&nbsp\; 6:30pm until<br />\n<br />\nSilent Auction&nbsp\; 3:00-8:00pm<br />\n50/50 Raffle<br />\nPaul Daisey GOFUNDME #DAISEYSTRONG<br />\nLive Auction&nbsp\; 5:30pm<br />\n<br />\nLive Auction Items:&nbsp\;\n<div>1. Woman Anglers on the Wrecker Sportsfishing for 6 women\, Jeremy Blunt</div>\n\n<div>2. Gourmet Dinner for 10 w Chef Mikey J\, Mikey Johnston</div>\n\n<div>3. Deep Sea Fishing on the Playmate Sportsfishing for 6\, Jeremy Shanroski</div>\n\n<div>4. Typsy Tiki Cruise for 6\, Laurie Daily</div>\n\n<div>5. Shrimp Boil for up to 30\, RJ Kauffman &amp\; Hocker&#39\;s Super Center</div>\n\n<div>6. 3 hr Boat Bar Crawl for 4\, Bryan Keith of Mio Fratellos</div>\n\n<div>7. Pig Roast for 50\, Tommy Adkins (1-eye Roasts)</div>\n\n<div>8. Duck/Brant Hunt for 6\, Icebreaker Waterfowl &amp\; Lucky Break Charters</div>\n\n<div>9. Hatteras House and fishing Trip for 4\, Glen Cave (Cave Construction)</div>\n\n<div>10. 1 week vacation in OBX for up to 12 people\, Lori Martin Murphy</div>\n\n<div>11. $3000 worth of Landscaping!\, Mike Lord\, Lord &amp\; Sons Landscaping</div>\n\n<div>12. Hunter/Angler package (Raven&#39\;s Crossbow\, 1 pallet of feed corn\, a Sitka Gear jacket\, a Rod and Reel.)</div>\n<br />\nTons of Local donations:&nbsp\; Lift Kits &bull\; Caps tix &bull\; Family Surf Lessons &bull\; Mini photo shoot<br />\n<br />\nSponsored by:&nbsp\;<br />\nThe Salted Rim Margarita Bar &amp\; Grille<br />\nSmitty McGee&#39\;s Raw Bar&nbsp\;
LOCATION:The Salted Rim Margarita Bar & Grille 35553 Atlantic Avenue Millville\, DE 19967 302-537-7373
UID:e.2126.23451
SEQUENCE:3
DTSTAMP:20260424T053611Z
URL:http://business.thequietresorts.com/events/details/fundraiser-for-paul-daisey-23451
END:VEVENT

END:VCALENDAR
