BEGIN:VCALENDAR
VERSION:2.0
PRODID:-//ChamberMaster//Event Calendar 2.0//EN
METHOD:PUBLISH
X-PUBLISHED-TTL:P3D
REFRESH-INTERVAL:P3D
CALSCALE:GREGORIAN
BEGIN:VEVENT
DTSTART:20210610T153000Z
DTEND:20210610T160000Z
X-MICROSOFT-CDO-ALLDAYEVENT:FALSE
SUMMARY:Friendship Creek "Grand Opening & Ribbon Cutting"
DESCRIPTION:Join the staff at McKee Builders as they unveil their latest community Friendship Creek and celebrate their Grand Opening and Ribbon Cutting on Thursday June 10 2021 beginning at 11:30am.
X-ALT-DESC;FMTTYPE=text/html:<span style="color: rgb(51\, 51\, 51)\; font-family: sans-serif\, Arial\, Verdana\, &quot\;Trebuchet MS&quot\;\; font-size: 13px\; background-color: rgb(255\, 255\, 255)\;">Join the staff at McKee Builders as they unveil their latest community Friendship Creek and celebrate their Grand Opening and Ribbon Cutting on Thursday June 10 2021 beginning at 11:30am.&nbsp\;&nbsp\;</span><br />\n&nbsp\;<br />\n&nbsp\;
LOCATION:McKee Builders Friendship Creek 35053 Dundee Street Frankford\, DE 19945
UID:e.2126.22019
SEQUENCE:3
DTSTAMP:20260424T192225Z
URL:http://business.thequietresorts.com/events/details/friendship-creek-grand-opening-ribbon-cutting-22019
END:VEVENT

END:VCALENDAR
