BEGIN:VCALENDAR
VERSION:2.0
PRODID:-//ChamberMaster//Event Calendar 2.0//EN
METHOD:PUBLISH
X-PUBLISHED-TTL:P3D
REFRESH-INTERVAL:P3D
CALSCALE:GREGORIAN
BEGIN:VEVENT
DTSTART:20231122T220000Z
DTEND:20231123T030000Z
X-MICROSOFT-CDO-ALLDAYEVENT:FALSE
SUMMARY:Friendsgiving Party & Black Friday Gift Cards at The Salted Rim
DESCRIPTION:Friendsgiving Party\n\nWednesday\, November 22nd\n\n5:00pm - Close\n\nLauren Glick Trio   7-10pm\n\nFood and Drink Specials\n\nToys for Tots Toy Drive\n\nFood Drive\n\n\n\nalso don't forget about our\n\n\n\nBlack Friday Gift Card SALE\n\n\n\nFriday - 11/24/23\n\nSaturday -- 11/25/23\n\nSunday - 11/26/23\n\n\n\nIN RESTAURANT\n\nWhen you purchase a \n\n$100 gift card receive a $25 Promo gift card free\n\n\n\nWhen you purchase a \n\n$50 gift card receive a $10 Promo gift card free\n\n___________________________________\n\nONLINE ONLY\n\nWhen you purchase a \n\n$100 gift card receive a $25 Promo gift card free\n\nOnline Gift Card & Promo Card will be mailed NOT AVAILABLE for PICKUP\n \n\n\nGift Cards will be issued in these increments ONLY\,\n\ncannot be broken down into smaller increments.\n\n\n\n Black Friday gift cards order online through our website https://www.saltedrimde.com/gift-cards starting at 12:00am Friday\, 11/24/22 ending Sunday\, 11/26/22 at 11:59pm.  Orders placed outside this window will not be honored for the buy one get one promotion.\n\n\n\nOrders placed online are ONLY available to be mailed USPS certified mail with\n\ntracking (NOT AVAILABLE FOR PICKUP).\n\n\n\n\n\nGift cards and Promo gift cards are not valid for events or gratuity.\n\nPromo gift cards may not be used until 1/1/24
X-ALT-DESC;FMTTYPE=text/html:<div style="text-align:center"><span style="font-family:comic sans ms"><span style="font-size:18px"><span style="font-size:22px"><strong><span style="color:#FF8C00">Friendsgiving Party</span></strong></span><br />\n<span style="font-size:14px"><span style="font-family:tahoma">Wednesday\, November 22nd<br />\n5:00pm - Close<br />\nLauren Glick Trio &bull\; 7-10pm<br />\nFood and Drink Specials<br />\n<span style="font-size:16px"><span style="color:#FF0000"><strong>Toys for Tots Toy Drive<br />\nFood Drive</strong></span></span><br />\n<br />\n<span style="color:#000000"><em><span style="font-size:20px">also don&#39\;t forget about our</span></em></span></span></span><br />\n<br />\n<span style="color:#FF0000"><em><span style="font-family:verdana"><strong>Black Friday Gift Card SALE</strong></span></em></span></span></span><br />\n<br />\n<span style="font-size:14px"><span style="font-family:arial">Friday - 11/24/23<br />\nSaturday -- 11/25/23<br />\nSunday - 11/26/23<br />\n<br />\n<strong>IN RESTAURANT</strong><br />\nWhen you purchase a&nbsp\;<br />\n<span style="color:#0000FF"><strong>$100</strong></span> gift card receive a <span style="color:#0000FF"><strong>$25</strong></span>&nbsp\;Promo gift card free<br />\n<br />\nWhen you purchase a&nbsp\;<br />\n<span style="color:#0000FF"><strong>$50</strong></span> gift card receive a <span style="color:#0000FF"><strong>$10&nbsp\;</strong></span>Promo gift card free<br />\n<span style="color:#FF0000">___________________________________</span><br />\n<strong>ONLINE ONLY</strong></span></span><br />\n<span style="background-color:rgb(255\, 255\, 255)\; color:rgb(51\, 51\, 51)\; font-family:arial\; font-size:14px">When you purchase a&nbsp\;</span><br />\n<span style="background-color:rgb(255\, 255\, 255)\; color:rgb(0\, 0\, 255)\; font-family:arial\; font-size:14px"><strong>$100</strong></span><span style="background-color:rgb(255\, 255\, 255)\; color:rgb(51\, 51\, 51)\; font-family:arial\; font-size:14px">&nbsp\;gift card receive a&nbsp\;</span><span style="background-color:rgb(255\, 255\, 255)\; color:rgb(0\, 0\, 255)\; font-family:arial\; font-size:14px"><strong>$25</strong></span><span style="background-color:rgb(255\, 255\, 255)\; color:rgb(51\, 51\, 51)\; font-family:arial\; font-size:14px">&nbsp\;Promo gift card free<br />\n<em><span style="font-size:11px">Online Gift Card &amp\; Promo Card will be mailed NOT AVAILABLE for PICKUP</span></em></span>\n<div>&nbsp\;</div>\n<br />\n<span style="font-size:14px"><span style="font-family:arial"><span style="font-size:12px"><em><span style="color:#0000FF"><strong>Gift Cards will be issued in these increments ONLY\,<br />\ncannot be broken down into smaller increments.</strong></span></em></span><br />\n<br />\n<span style="font-family:comic sans ms"><em>&nbsp\;Black Friday gift cards order online through our website <a href="https://www.saltedrimde.com/gift-cards">https://www.saltedrimde.com/gift-cards</a><span style="color:#0000FF">&nbsp\;</span>starting at 12:00am Friday\, 11/24/22 ending Sunday\, 11/26/22 at 11:59pm.&nbsp\; Orders placed outside this window will not be honored for the buy one get one promotion.<br />\n<br />\n<strong>Orders placed online are <span style="color:#FF0000">ONLY</span> available to be mailed USPS certified mail with<br />\ntracking (<span style="color:#FF0000">NOT AVAILABLE FOR PICKUP</span>).</strong></em></span><br />\n<br />\n<br />\nGift cards and Promo gift cards are not valid for events or gratuity.</span></span></div>\n\n<div style="text-align:center"><span style="font-size:14px"><span style="font-family:arial">Promo gift cards may not be used until 1/1/24</span></span></div>\n
LOCATION:The Salted Rim Margarita Bar & Grille 35553 Atlantic Avenue Millville\, DE 19967 302-537-7373
UID:e.2126.27168
SEQUENCE:3
DTSTAMP:20260420T171053Z
URL:http://business.thequietresorts.com/events/details/friendsgiving-party-black-friday-gift-cards-at-the-salted-rim-27168
END:VEVENT

END:VCALENDAR
