BEGIN:VCALENDAR
VERSION:2.0
PRODID:-//ChamberMaster//Event Calendar 2.0//EN
METHOD:PUBLISH
X-PUBLISHED-TTL:P3D
REFRESH-INTERVAL:P3D
CALSCALE:GREGORIAN
BEGIN:VEVENT
DTSTART:20240410T210000Z
DTEND:20240413T163000Z
X-MICROSOFT-CDO-ALLDAYEVENT:FALSE
SUMMARY:Friends of the Georgetown Public Library Book Sale
DESCRIPTION:Sponsored by the Friends of the Georgetown Public Library\n\nWhere:123 West Pine St. UPSTAIRS Meeting Rooms A&B\n\nWhen: April 10 - April 13\, 2024\n\n  WEDNESDAY\, April 10 (Friends Members Only) 5pm   7pm\n\n  THURSDAY - SATURDAY\, April 11 - April 13 (Open to the Public)\n\n\n	Thursday\, April 11          10am   7pm\n	Friday\, April 12               10am   5pm\n	Saturday\, April 13          10am   12:30pm\n\n\nWhat:\n\n\n	Hardbound Fiction $1 each or 3/ $2\n	Everything else $0.50 each or 3/ $1\n\n\n  Paperbacks             Non-Fiction             DVDs/Music\n\n  Coffee (Oversized) Table Books             Children's Selections         Audio (Playaway and CD) books?
X-ALT-DESC;FMTTYPE=text/html:<p>Sponsored by the Friends of the Georgetown Public Library</p>\n\n<p>Where:123 West Pine St. UPSTAIRS Meeting Rooms A&amp\;B</p>\n\n<p>When: April 10 - April 13\, 2024</p>\n\n<p>&nbsp\; WEDNESDAY\, April 10 (Friends Members Only) 5pm &ndash\; 7pm</p>\n\n<p>&nbsp\; THURSDAY - SATURDAY\, April 11&nbsp\;- April 13 (Open to the Public)</p>\n\n<ul>\n	<li>Thursday\, April 11&nbsp\; &nbsp\; &nbsp\; &nbsp\; &nbsp\; 10am &ndash\; 7pm</li>\n	<li>Friday\, April 12&nbsp\; &nbsp\; &nbsp\; &nbsp\; &nbsp\; &nbsp\; &nbsp\; &nbsp\;10am &ndash\; 5pm</li>\n	<li>Saturday\, April 13&nbsp\; &nbsp\; &nbsp\; &nbsp\; &nbsp\; 10am &ndash\; 12:30pm</li>\n</ul>\n\n<p>What:</p>\n\n<ul>\n	<li>Hardbound Fiction $1 each or 3/ $2</li>\n	<li>Everything else $0.50 each or 3/ $1</li>\n</ul>\n\n<p>&bull\; Paperbacks&nbsp\;&nbsp\;&nbsp\;&nbsp\;&nbsp\;&nbsp\;&nbsp\;&nbsp\;&nbsp\;&nbsp\; &bull\; Non-Fiction&nbsp\; &nbsp\;&nbsp\;&nbsp\;&nbsp\;&nbsp\;&nbsp\;&nbsp\;&nbsp\;&nbsp\;&bull\; DVDs/Music</p>\n\n<p>&bull\; Coffee (Oversized) Table Books&nbsp\;&nbsp\;&nbsp\;&nbsp\;&nbsp\;&nbsp\;&nbsp\;&nbsp\;&nbsp\;&nbsp\; &bull\; Children&rsquo\;s Selections&nbsp\; &nbsp\; &nbsp\; &nbsp\;&bull\; Audio (Playaway and CD) books?</p>\n
LOCATION:Georgetown Public Library 123 West Pine St. Georgetown\, DE 19947
UID:e.2126.28515
SEQUENCE:3
DTSTAMP:20260420T061801Z
URL:http://business.thequietresorts.com/events/details/friends-of-the-georgetown-public-library-book-sale-28515
END:VEVENT

END:VCALENDAR
