BEGIN:VCALENDAR
VERSION:2.0
PRODID:-//ChamberMaster//Event Calendar 2.0//EN
METHOD:PUBLISH
X-PUBLISHED-TTL:P3D
REFRESH-INTERVAL:P3D
CALSCALE:GREGORIAN
BEGIN:VEVENT
DTSTART:20231102T210000Z
DTEND:20231103T000000Z
X-MICROSOFT-CDO-ALLDAYEVENT:FALSE
SUMMARY:Friends of the Bays Awards and Volunteer Appreciation Party
DESCRIPTION:The Center's important work couldn't be completed without the help of our talented and dedicated volunteers and partners! That's why we want to honor their contributions at our annual Friends of the Bays and Volunteer Appreciation Event. Please join us on November 2nd at 5pm at Crooked Hammock Brewery for food\, drinks\, and fun as we honor these special Friends of the Bays.\n\n \n\n	Complimentary food and non-alcoholic beverages\n	Cash bar\n	Friends of the Bays award presentation\n	Volunteer superlative awards\n	Fun & games!\n\nRegister here.
X-ALT-DESC;FMTTYPE=text/html:<span style="color:black\;"><span style="font-family:arial\,sans-serif\;"><span style="font-size:12.0pt\;">The Center&rsquo\;s important work couldn&rsquo\;t be completed without the help of our talented and dedicated volunteers and partners! That&rsquo\;s why we want to honor their contributions at our annual Friends of the Bays and Volunteer Appreciation Event. Please join us on November 2nd at 5pm at Crooked Hammock Brewery for food\, drinks\, and fun as we honor these special Friends of the Bays.</span></span></span><br />\n&nbsp\;\n<ul>\n	<li><span style="color:black\;"><span style="font-family:arial\,sans-serif\;"><span style="font-size:12.0pt\;">Complimentary food and non-alcoholic beverages</span></span></span></li>\n	<li><span style="color:black\;"><span style="font-family:arial\,sans-serif\;"><span style="font-size:12.0pt\;">Cash bar</span></span></span></li>\n	<li><span style="color:black\;"><span style="font-family:arial\,sans-serif\;"><span style="font-size:12.0pt\;">Friends of the Bays award presentation</span></span></span></li>\n	<li><span style="color:black\;"><span style="font-family:arial\,sans-serif\;"><span style="font-size:12.0pt\;">Volunteer superlative awards</span></span></span></li>\n	<li><span style="color:black\;"><span style="font-family:arial\,sans-serif\;"><span style="font-size:12.0pt\;">Fun &amp\; games!</span></span></span></li>\n</ul>\n<span style="color:black\;"><span style="font-family:arial\,sans-serif\;"><span style="font-size:12.0pt\;">Register <a href="https://docs.google.com/forms/d/e/1FAIpQLSdNINOcl7njMlAMCKShp1e-K-gPu5bb5NxZwt9gfiOVSepj1Q/viewform?pli=1&amp\;blm_aid=0">here</a>.</span></span></span>
LOCATION:Crooked Hammock Brewery 36707 Crooked Hammock Way Lewes\, DE 19958
UID:e.2126.27027
SEQUENCE:3
DTSTAMP:20260420T171315Z
URL:http://business.thequietresorts.com/events/details/friends-of-the-bays-awards-and-volunteer-appreciation-party-27027
END:VEVENT

END:VCALENDAR
