BEGIN:VCALENDAR
VERSION:2.0
PRODID:-//ChamberMaster//Event Calendar 2.0//EN
METHOD:PUBLISH
X-PUBLISHED-TTL:P3D
REFRESH-INTERVAL:P3D
CALSCALE:GREGORIAN
BEGIN:VEVENT
DTSTART:20220628T220000Z
DTEND:20220629T000000Z
X-MICROSOFT-CDO-ALLDAYEVENT:FALSE
SUMMARY:Friends of Holts Landing - Ribbon Cutting for Summer Concert Series
DESCRIPTION:Join the Friends of Holts Landing State Park for a ribbon cutting kicking off thier FREE Summer Concerts in the park series on Tuesday\, June 28th at 6:00pm.\n\n\n\nJune 28th is also their Family Fun Nite with food provided by the Inland Bay Foundation.  Dr. Dennis Bartowe (Center for the Inland Bays) will lead hands on fish & critters identification for kis of all ages.
X-ALT-DESC;FMTTYPE=text/html:Join the Friends of Holts Landing State Park for a ribbon cutting kicking off thier FREE Summer Concerts in the park series on Tuesday\, June 28th at 6:00pm.<br />\n<br />\nJune 28th is also their Family Fun Nite with food provided by the Inland Bay Foundation.&nbsp\; Dr. Dennis Bartowe (Center for the Inland Bays) will lead hands on fish &amp\; critters identification for kis of all ages.<br />\n<br />\n&nbsp\;
LOCATION:Holts Landing State Park 39415 Inlet Rd. Dagsboro\, DE 19939
UID:e.2126.23789
SEQUENCE:3
DTSTAMP:20260422T001330Z
URL:http://business.thequietresorts.com/events/details/friends-of-holts-landing-ribbon-cutting-for-summer-concert-series-23789
END:VEVENT

END:VCALENDAR
