BEGIN:VCALENDAR
VERSION:2.0
PRODID:-//ChamberMaster//Event Calendar 2.0//EN
METHOD:PUBLISH
X-PUBLISHED-TTL:P3D
REFRESH-INTERVAL:P3D
CALSCALE:GREGORIAN
BEGIN:VEVENT
DTSTART:20200110T233000Z
DTEND:20200111T020000Z
X-MICROSOFT-CDO-ALLDAYEVENT:FALSE
SUMMARY:Friday Night Freeze
DESCRIPTION:Put a freeze on your video games & phones for a night of fun with friends. Hosted by the Ocean View Police Department\, Ocean View Church of Christ and The Ball 4 All Foundation\, join us from 6:30 - 9:00 pm on January 10\, January 24\, February 21\, March 6 and March 20 in the gym at Ocean View Church of Christ. This event is free for students grades 6 - 8. Enjoy a fun night of pizza\, music\, sports and games. Please complete the online registration for each date that your child is attending\, all links to each registration page can be found below.\n\n\n\nPlease fill out the emergency contact form to be kept on file. You only need to fill out this form once. Please bring this form with you the day that your child is attending\n\n\n\nPlease email ball4allfoundation@gmail.com with any questions or concerns\n\n\n\nTo register for January 24\, click here\n\nTo register for February 21\, click here\n\nTo register for March 6\, click here\n\nTo register for March 20\, click here
X-ALT-DESC;FMTTYPE=text/html:<span style="font-family: arial\;"><span style="font-size: 14px\;">Put a freeze on your video games &amp\; phones for a night of fun with friends. Hosted by the Ocean View Police Department\, Ocean View Church of Christ and The Ball 4 All Foundation\, join us from 6:30 - 9:00 pm on January 10\, January 24\, February 21\, March 6 and March 20 in the gym at Ocean View Church of Christ. This event is free for students grades 6 - 8. Enjoy a fun night of pizza\, music\, sports and games. <strong>Please complete the online registration for each date that your child is attending\, all links to each registration page can be found below</strong>.</span></span><br />\n<br />\n<font size="3"><span style="font-size: 14px\;"><span style="font-family: arial\;">Please fill out the <a href="https://chambermaster.blob.core.windows.net/userfiles/UserFiles/chambers/2126/File/Community_Events/Friday_Night_Freeze/NewFridayNightFreezeSignupFINAL.pdf" target="_blank"><strong><font color="#0066cc">emergency contact form</font></strong></a> to be kept on file. <strong>You only need to fill out this form once. Please bring this form with you the day that your child is attending</strong></span></span></font><br />\n<br />\n<span style="font-size: 14px\;"><span style="font-family: arial\;">Please email <strong><a href="mailto:ball4allfoundation@gmail.com">ball4allfoundation@gmail.com</a></strong> with any questions or concerns</span></span><br />\n<br />\n<span style="font-family: arial\;"><span style="font-size: 14px\;">To register for January 24\, <strong><a href="http://business.bethany-fenwick.org/events/details/friday-night-freeze-19532" target="_blank">click here</a></strong><br />\nTo register for February 21\, <strong><a href="http://business.bethany-fenwick.org/events/details/friday-night-freeze-19533" target="_blank">click here</a></strong><br />\nTo register for March 6\, <strong><a href="http://business.bethany-fenwick.org/events/details/friday-night-freeze-19534" target="_blank">click here</a></strong><br />\nTo register for March 20\, <strong><a href="http://business.bethany-fenwick.org/events/details/friday-night-freeze-19535" target="_blank">click here</a></strong></span></span><br />\n<br />\n&nbsp\;
LOCATION:Ocean View Church of Christ 55 West Ave Ocean View\, DE 19970
UID:e.2126.19527
SEQUENCE:3
DTSTAMP:20260426T020620Z
URL:http://business.thequietresorts.com/events/details/friday-night-freeze-19527
END:VEVENT

END:VCALENDAR
