BEGIN:VCALENDAR
VERSION:2.0
PRODID:-//ChamberMaster//Event Calendar 2.0//EN
METHOD:PUBLISH
X-PUBLISHED-TTL:P3D
REFRESH-INTERVAL:P3D
CALSCALE:GREGORIAN
BEGIN:VEVENT
DTSTART:20231015T170000Z
DTEND:20231015T180000Z
X-MICROSOFT-CDO-ALLDAYEVENT:FALSE
SUMMARY:Free Spanish Class at Made by Hand International Cooperative
DESCRIPTION:Stop by Made by Hand International Co-Op on Sunday\, October 15th for a free spanish class at 1:00PM!  Made by Hand is a gift shop with 100% hand made and Fair Trade goods.
X-ALT-DESC;FMTTYPE=text/html:Stop by Made by Hand International Co-Op on Sunday\, October 15th for a free spanish class at 1:00PM!&nbsp\; Made by Hand is a gift shop with 100% hand made and Fair Trade goods.&nbsp\;
LOCATION:Made by Hand International Co-Op 34444 Coastal Highway #2 Bethany Beach\, DE 19930
UID:e.2126.27011
SEQUENCE:3
DTSTAMP:20260420T182939Z
URL:http://business.thequietresorts.com/events/details/free-spanish-class-at-made-by-hand-international-cooperative-27011
END:VEVENT

END:VCALENDAR
