BEGIN:VCALENDAR
VERSION:2.0
PRODID:-//ChamberMaster//Event Calendar 2.0//EN
METHOD:PUBLISH
X-PUBLISHED-TTL:P3D
REFRESH-INTERVAL:P3D
CALSCALE:GREGORIAN
BEGIN:VEVENT
DTSTART:20220917T120000Z
DTEND:20220917T180000Z
X-MICROSOFT-CDO-ALLDAYEVENT:FALSE
SUMMARY:Free Recycling and Paper Shredding Event
DESCRIPTION:DSWA Free Recycling and Paper Shredding Event\n\n\n\nDelaware Residents are invited to drop off their household hazardous waste and electronic goods to be recycled. Participants can also have up to two boxes of paper shredded for free!
X-ALT-DESC;FMTTYPE=text/html:DSWA Free Recycling and Paper Shredding Event<br />\n<br />\nDelaware Residents are invited to drop off their household hazardous waste and electronic goods to be recycled. Participants can also have up to two boxes of paper shredded for free!
LOCATION:Indian River High School 29772 Armory Rd\, Dagsboro\, DE 19939
UID:e.2126.24172
SEQUENCE:3
DTSTAMP:20260421T173216Z
URL:http://business.thequietresorts.com/events/details/free-recycling-and-paper-shredding-event-24172
END:VEVENT

END:VCALENDAR
