BEGIN:VCALENDAR
VERSION:2.0
PRODID:-//ChamberMaster//Event Calendar 2.0//EN
METHOD:PUBLISH
X-PUBLISHED-TTL:P3D
REFRESH-INTERVAL:P3D
CALSCALE:GREGORIAN
BEGIN:VEVENT
DTSTART:20191201T213000Z
DTEND:20191201T230000Z
X-MICROSOFT-CDO-ALLDAYEVENT:FALSE
SUMMARY:Free Potluck Dinner
DESCRIPTION:Come on out and join us for a free potluck dinner on the first Sunday of every month at 4:30 PM in our Wesley Hall! There is no cost\, we only ask that you bring a dish if you can and especially bring a friend. Everyone from the church and community is invited\, so we hope to see you soon!
X-ALT-DESC;FMTTYPE=text/html:<span style="color:rgb(29\, 33\, 41)\; font-family:system-ui\,-apple-system\,system-ui\,.sfnstext-regular\,sans-serif\; font-size:14px">Come on out and join us for a free potluck dinner on the first Sunday of every month at 4:30 PM in our Wesley Hall! There is no cost\, we only ask that you bring a dish if you can and especially bring a friend. Everyone from the church and community is invited\, so we hope to see you soon!</span>
LOCATION:Millville United Methodist Church 36405 Club House Road Millville\, DE 19967
UID:e.2126.12891
SEQUENCE:3
DTSTAMP:20260426T034423Z
URL:http://business.thequietresorts.com/events/details/free-potluck-dinner-12-01-2019-12891
END:VEVENT

END:VCALENDAR
