BEGIN:VCALENDAR
VERSION:2.0
PRODID:-//ChamberMaster//Event Calendar 2.0//EN
METHOD:PUBLISH
X-PUBLISHED-TTL:P3D
REFRESH-INTERVAL:P3D
CALSCALE:GREGORIAN
BEGIN:VEVENT
DTSTART:20200503T203000Z
DTEND:20200503T220000Z
X-MICROSOFT-CDO-ALLDAYEVENT:FALSE
SUMMARY:Free Monthly Potluck
DESCRIPTION:From October through May\, Millville United Methodist Church welcomes all to free community potluck dinners on the first Sunday of every month from 4:30 PM to 6:00 PM in their Wesley Hall. There is no cost\, but guests are encouraged to bring a dish and a friend. Everyone from the community is invited! MUMC is located at 36405 Club House Rd.\, Millville\, Delaware.
X-ALT-DESC;FMTTYPE=text/html:<span style="font-size: 14px\;"><span style="font-family: arial\;">From October through May\, Millville United Methodist Church welcomes all to free community potluck dinners on the first Sunday of every month from 4:30 PM to 6:00 PM in their Wesley Hall. There is no cost\, but guests are encouraged to bring a dish and a friend. Everyone from the community is invited! MUMC is located at 36405 Club House Rd.\, Millville\, Delaware.</span></span>
LOCATION:Millville United Methodist Church 36405 Club House Rd. Millville\, DE 19967
UID:e.2126.17258
SEQUENCE:3
DTSTAMP:20260425T194442Z
URL:http://business.thequietresorts.com/events/details/free-monthly-potluck-05-03-2020-17258
END:VEVENT

END:VCALENDAR
