BEGIN:VCALENDAR
VERSION:2.0
PRODID:-//ChamberMaster//Event Calendar 2.0//EN
METHOD:PUBLISH
X-PUBLISHED-TTL:P3D
REFRESH-INTERVAL:P3D
CALSCALE:GREGORIAN
BEGIN:VEVENT
DTSTART:20240601T150000Z
DTEND:20240601T170000Z
X-MICROSOFT-CDO-ALLDAYEVENT:FALSE
SUMMARY:FREE Kids Craft at Art League of OC
DESCRIPTION:Bring the kids and do something creative with them and for them. Our summer Saturday projects will change every week\, so come more than once! No reservations needed. Free and open to all! \n\nProject:\n\nCardboard Surf/Skate Boards
X-ALT-DESC;FMTTYPE=text/html:<p>Bring the kids and do something creative with them and for them. Our summer Saturday projects will change every week\, so come more than once! No reservations needed. Free and open to all!&nbsp\;</p>\n\n<p>Project:<br />\n<strong>Cardboard Surf/Skate Boards</strong></p>\n
LOCATION:The Art League of Ocean City 502 94th St. Ocean City\, MD 21842.
UID:e.2126.30082
SEQUENCE:3
DTSTAMP:20260420T092812Z
URL:http://business.thequietresorts.com/events/details/free-kids-craft-at-art-league-of-oc-30082
END:VEVENT

END:VCALENDAR
