BEGIN:VCALENDAR
VERSION:2.0
PRODID:-//ChamberMaster//Event Calendar 2.0//EN
METHOD:PUBLISH
X-PUBLISHED-TTL:P3D
REFRESH-INTERVAL:P3D
CALSCALE:GREGORIAN
BEGIN:VEVENT
DTSTART:20240420T160000Z
DTEND:20240420T180000Z
X-MICROSOFT-CDO-ALLDAYEVENT:FALSE
SUMMARY:Free Home Buyers Seminar with Fulton Bank
DESCRIPTION:If you are thinking about purchasing a home\, this is an opportunity you can't miss. Fulton Mortgage Company is offering a no-cost\, no-obligation seminar to provide you with important home buying information including mortgage prequalification and how to choose the best financing options to meet your specific needs.\n\n\n\nComplimentary refreshments will be served.\n\n\n\nTo attend\, please RSVP to Peter Appolito at 862-202-1312 or PAppolito@fultonmortgagecompany.com.
X-ALT-DESC;FMTTYPE=text/html:If you are thinking about purchasing a home\, this is an opportunity you can&#39\;t miss. Fulton Mortgage Company is offering a no-cost\, no-obligation seminar to provide you with important home buying information including mortgage prequalification and how to choose the best financing options to meet your specific needs.<br />\n<br />\nComplimentary refreshments will be served.<br />\n<br />\nTo attend\, please RSVP to Peter Appolito at 862-202-1312 or PAppolito@fultonmortgagecompany.com.
LOCATION:Fulton Bank 60 Atlantic Ave. Ocean View\, DE 19970
UID:e.2126.28542
SEQUENCE:3
DTSTAMP:20260420T061658Z
URL:http://business.thequietresorts.com/events/details/free-home-buyers-seminar-with-fulton-bank-28542
END:VEVENT

END:VCALENDAR
