BEGIN:VCALENDAR
VERSION:2.0
PRODID:-//ChamberMaster//Event Calendar 2.0//EN
METHOD:PUBLISH
X-PUBLISHED-TTL:P3D
REFRESH-INTERVAL:P3D
CALSCALE:GREGORIAN
BEGIN:VEVENT
DTSTART:20230817T193000Z
DTEND:20230817T210000Z
X-MICROSOFT-CDO-ALLDAYEVENT:FALSE
SUMMARY:Free End of Life Doula Workshop with Beach Doula
DESCRIPTION:Beach Doula\, your end of life coach\, will be hosting a free end of life doula workshop featuring Dan Conway of Scott & Shuman\, P.A.\, on Thursday\, August 17\, 2023.  Founded by Sheila Brennan\, Beach Doula is working to educate the general public on navigating social security enrollment\, legacy letters\, shopping for coffins\, green burials\, resources that complement an end-of-life plan\, and more\, to help you feel prepared long before a terminal diagnosis is given. \n\n\n\nThe first 10 people to RSVP to this workshop will receive a discounted advanced health care directive ($100 single/$200 couple)!  RSVP to Sheila Brennan via call or text\, at 302-278-3993.
X-ALT-DESC;FMTTYPE=text/html:Beach Doula\, your end of life coach\, will be hosting a free end of life doula workshop featuring Dan Conway of Scott &amp\; Shuman\, P.A.\, on Thursday\, August 17\, 2023.&nbsp\; Founded by Sheila Brennan\, Beach Doula is working to educate the general public on navigating social security enrollment\, legacy letters\, shopping for coffins\, green burials\, resources that complement an end-of-life plan\, and more\, to help you feel prepared long before a terminal diagnosis is given.&nbsp\;<br />\n<br />\nThe first 10 people to RSVP to this workshop will receive a discounted advanced health care directive ($100 single/$200 couple)!&nbsp\; RSVP to Sheila Brennan via call or text\, at 302-278-3993.
LOCATION:Bethany-Fenwick Area Chamber of Commerce 36913 Coastal Highway Fenwick Island DE
UID:e.2126.26473
SEQUENCE:3
DTSTAMP:20260420T230700Z
URL:http://business.thequietresorts.com/events/details/free-end-of-life-doula-workshop-with-beach-doula-26473
END:VEVENT

END:VCALENDAR
