BEGIN:VCALENDAR
VERSION:2.0
PRODID:-//ChamberMaster//Event Calendar 2.0//EN
METHOD:PUBLISH
X-PUBLISHED-TTL:P3D
REFRESH-INTERVAL:P3D
CALSCALE:GREGORIAN
BEGIN:VEVENT
DTSTART:20230621T220000Z
DTEND:20230622T000000Z
X-MICROSOFT-CDO-ALLDAYEVENT:FALSE
SUMMARY:Free Concert- Over Time Band - at Evans Park\, Millville
DESCRIPTION:The Town of Millville is planning a series of FREE family-friendly\, concerts at Evans Park in Millville.\n\nEvans Park will be jamming this summer with a series of FREE concerts on the third Wednesday of May\, June\, and July from 6:00PM-8:00PM. Bring your lawn chair\, relax and enjoy local music and delicious food from local food trucks. Here's the line-up:\n\nWednesday May 17th LOWER CASE BLUES will bring some of the best blends of blues and rock.\n\nWednesday June 21st OVER TIME BAND will perform classic and modern rock with guitars and horns.\n\nWednesday July 19th ON THE EDGE will play a mix of pop\, rock & dance music.
X-ALT-DESC;FMTTYPE=text/html:<span style="font-size:14px">The Town of Millville is planning a series of&nbsp\;FREE<strong>&nbsp\;</strong>family-friendly\, concerts at Evans Park in Millville.<br />\nEvans Park will be jamming this summer with a series of <strong>FREE concerts </strong>on the third Wednesday of May\, June\, and July from 6:00PM-8:00PM. Bring your lawn chair\, relax and enjoy local music and delicious food from local food trucks. Here&rsquo\;s the line-up:<br />\nWednesday May 17<sup>th</sup> <u>LOWER CASE BLUES</u> will bring some of the best blends of blues and rock.<br />\nWednesday June 21<sup>st</sup> <u>OVER TIME BAND</u> will perform classic and modern rock with guitars and horns.<br />\nWednesday July 19<sup>th</sup> <u>ON THE EDGE</u> will play a mix of pop\, rock &amp\; dance music.</span>
LOCATION:Evans Park 32517 Dukes Drive Millville\, DE 19967
UID:e.2126.25561
SEQUENCE:3
DTSTAMP:20260421T024208Z
URL:http://business.thequietresorts.com/events/details/free-concert-over-time-band-at-evans-park-millville-25561
END:VEVENT

END:VCALENDAR
