BEGIN:VCALENDAR
VERSION:2.0
PRODID:-//ChamberMaster//Event Calendar 2.0//EN
METHOD:PUBLISH
X-PUBLISHED-TTL:P3D
REFRESH-INTERVAL:P3D
CALSCALE:GREGORIAN
BEGIN:VEVENT
DTSTART:20230830T220000Z
DTEND:20230831T000000Z
X-MICROSOFT-CDO-ALLDAYEVENT:FALSE
SUMMARY:FREE CONCERT - ON THE EDGE - at EVANS PARK MILLVILLE
DESCRIPTION:The Town of Millville presents the last of the summer concerts FREE and family-friendly at Evans Park in Millville from 6:00PM-8:00PM. Bring your lawn chair\, relax and enjoy local music and delicious food from local food trucks. Wednesday August 30th is the rescheduled date for ON THE EDGE. You will be entertained with a full band playing a mix of pop\, rock & dance music. This is one you won't want to miss!
X-ALT-DESC;FMTTYPE=text/html:<span style="font-size:12.0pt">The Town of Millville presents the last of the summer concerts FREE and family-friendly at Evans Park in Millville from&nbsp\;</span><span style="font-size:12.0pt">6:00PM-8:00PM. Bring your lawn chair\, relax and enjoy local music and delicious food from local food trucks.&nbsp\;Wednesday August 30<sup>th </sup>is the rescheduled date for&nbsp\;<u>ON THE EDGE</u>.&nbsp\;You will be entertained with a full band playing a mix of pop\, rock &amp\; dance music. This is one you won&#39\;t want to miss!</span><br />\n&nbsp\;
LOCATION:Evans Park 32517 Dukes Drive Millville\, DE 19967
UID:e.2126.26601
SEQUENCE:3
DTSTAMP:20260420T213556Z
URL:http://business.thequietresorts.com/events/details/free-concert-on-the-edge-at-evans-park-millville-08-30-2023-26601
END:VEVENT

END:VCALENDAR
