BEGIN:VCALENDAR
VERSION:2.0
PRODID:-//ChamberMaster//Event Calendar 2.0//EN
METHOD:PUBLISH
X-PUBLISHED-TTL:P3D
REFRESH-INTERVAL:P3D
CALSCALE:GREGORIAN
BEGIN:VEVENT
DTSTART:20230517T220000Z
DTEND:20230518T000000Z
X-MICROSOFT-CDO-ALLDAYEVENT:FALSE
SUMMARY:FREE CONCERT - LOWER CASE BLUES - at EVANS PARK\, MILLVILLE
DESCRIPTION:The town of Millville is planning family-friendly\, free concerts at Evans Park in Millville.\n\nFREE CONCERTS in the park! Evans Park will be jamming this summer with a series of FREE concerts on the third Wednesday of May\, June\, and July from 6:00PM-8:00PM. Bring your lawn chair\, relax and enjoy local music and delicious food from local food trucks.\n\nHere's the line-up:\n\nWednesday May 17th LOWER CASE BLUES bringing the best blends of blues and rock.\n\nWednesday June 21st OVER TIME BAND will perform classic and modern rock with guitars and horns.\n\nWednesday July 19th ON THE EDGE will play a mix of pop\, rock & dance music.
X-ALT-DESC;FMTTYPE=text/html:<span style="font-size:12.0pt">The town of Millville is planning family-friendly\, free concerts at Evans Park in Millville.</span><br />\n<strong><span style="font-size:12.0pt">FREE CONCERTS</span></strong><span style="font-size:12.0pt"> in the park! Evans Park will be jamming this summer with a series of <strong>FREE concerts </strong>on the third Wednesday of May\, June\, and July from 6:00PM-8:00PM. Bring your lawn chair\, relax and enjoy local music and delicious food from local food trucks.<br />\nHere&rsquo\;s the line-up:<br />\nWednesday May 17<sup>th</sup> <u>LOWER CASE BLUES</u>&nbsp\;bringing the best blends of blues and rock.<br />\nWednesday June 21<sup>st</sup> <u>OVER TIME BAND</u>&nbsp\;will perform classic and modern rock with guitars and horns.<br />\nWednesday July 19<sup>th</sup> <u>ON THE EDGE</u> will play a mix of pop\, rock &amp\; dance music.</span>
LOCATION:Evans Park 32517 Dukes Drive Millville\, DE 19967
UID:e.2126.25555
SEQUENCE:3
DTSTAMP:20260421T024151Z
URL:http://business.thequietresorts.com/events/details/free-concert-lower-case-blues-at-evans-park-millville-25555
END:VEVENT

END:VCALENDAR
