BEGIN:VCALENDAR
VERSION:2.0
PRODID:-//ChamberMaster//Event Calendar 2.0//EN
METHOD:PUBLISH
X-PUBLISHED-TTL:P3D
REFRESH-INTERVAL:P3D
CALSCALE:GREGORIAN
BEGIN:VEVENT
DTSTART:20230627T220000Z
DTEND:20230628T000000Z
X-MICROSOFT-CDO-ALLDAYEVENT:FALSE
SUMMARY:Free Concert at Holts Landing State Park
DESCRIPTION:Free Concert at Holts Landing State Park in the Grove\, featuring "Vintage Blue Band " - Bluegrass & Classic Country Band\n\nAnd Family Fun Nite - Food for sale by the Inland Bays Foundation. Proceeds go to the Moyer/Austin/Chin Program that publishes the "Citizen's Advocacy Guide To Kristl\, Professor of Law and Director of the Environmental and Natural Resources Law Clinic at Widener University Delaware Law School. Copies will be available during the concert for a small donation.
X-ALT-DESC;FMTTYPE=text/html:<p>Free Concert at Holts Landing State Park in the Grove\, featuring &quot\;Vintage Blue Band &quot\; - Bluegrass &amp\; Classic Country Band</p>\n\n<p>And Family Fun&nbsp\;Nite - Food for sale by the Inland Bays Foundation. Proceeds go to the Moyer/Austin/Chin Program that publishes the &quot\;Citizen&#39\;s Advocacy Guide To Kristl\, Professor of Law and Director of the Environmental and Natural Resources Law Clinic at Widener University Delaware Law School. Copies will be available during the concert for a small donation.</p>\n
LOCATION:27046 Holts Landing Rd\, Dagsboro\, DE 19939
UID:e.2126.26083
SEQUENCE:3
DTSTAMP:20260421T004916Z
URL:http://business.thequietresorts.com/events/details/free-concert-at-holts-landing-state-park-26083
END:VEVENT

END:VCALENDAR
