BEGIN:VCALENDAR
VERSION:2.0
PRODID:-//ChamberMaster//Event Calendar 2.0//EN
METHOD:PUBLISH
X-PUBLISHED-TTL:P3D
REFRESH-INTERVAL:P3D
CALSCALE:GREGORIAN
BEGIN:VEVENT
DTSTART:20230808T220000Z
DTEND:20230809T000000Z
X-MICROSOFT-CDO-ALLDAYEVENT:FALSE
SUMMARY:Free Concert at Holts Landing State Park
DESCRIPTION:Free Concerts every Tuesday at Holts Landing State Park\n\nThe performer will be "Mother's Highway Junction" Original Roots & Americana.\n\nBring a chair and join us in the Grove under tall shade trees with a breeze from the bay.
X-ALT-DESC;FMTTYPE=text/html:<span style="font-family:arial\,sans-serif\; font-size:10pt">Free Concerts every Tuesday at Holts Landing State Park</span><br />\n<span style="font-family:arial\,sans-serif\; font-size:10pt">The performer will be &quot\;Mother&#39\;s Highway Junction&quot\; Original Roots &amp\; Americana.</span><br />\n<span style="color:#333333"><span style="font-family:arial\,sans-serif"><span style="font-size:10.0pt">Bring a chair and join us in the Grove under tall shade trees with a breeze from the bay.</span></span></span><br />\n&nbsp\;<br />\n&nbsp\;
LOCATION:27046 Holts Landing Road\, Dagsboro\, DE 19939
UID:e.2126.26410
SEQUENCE:3
DTSTAMP:20260420T214341Z
URL:http://business.thequietresorts.com/events/details/free-concert-at-holts-landing-state-park-08-08-2023-26410
END:VEVENT

END:VCALENDAR
