BEGIN:VCALENDAR
VERSION:2.0
PRODID:-//ChamberMaster//Event Calendar 2.0//EN
METHOD:PUBLISH
X-PUBLISHED-TTL:P3D
REFRESH-INTERVAL:P3D
CALSCALE:GREGORIAN
BEGIN:VEVENT
DTSTART:20230801T220000Z
DTEND:20230802T000000Z
X-MICROSOFT-CDO-ALLDAYEVENT:FALSE
SUMMARY:Free Concert at Holts Landing State Park
DESCRIPTION:Free Concerts every Tuesday at Holts Landing State Park\n\n8/1 The performer will be "Flatland Drive" Mid Atlantic Bluegrass.\n\nBring a chair and join us in the Grove under tall shade trees with a breeze from the bay.
X-ALT-DESC;FMTTYPE=text/html:<span style="color:#333333"><span style="font-family:arial\,sans-serif"><span style="font-size:10.0pt">Free Concerts every Tuesday at Holts Landing State Park</span></span></span><br />\n<span style="color:#333333"><span style="font-family:arial\,sans-serif"><span style="font-size:10.0pt">8/1 The performer will be &quot\;Flatland Drive&quot\; Mid Atlantic Bluegrass.<br />\nBring a chair and join us in the Grove under tall shade trees with a breeze from the bay.</span></span></span>
LOCATION:27046 Holts Landing Road\, Dagsboro\, DE 19939
UID:e.2126.26409
SEQUENCE:3
DTSTAMP:20260420T214341Z
URL:http://business.thequietresorts.com/events/details/free-concert-at-holts-landing-state-park-08-01-2023-26409
END:VEVENT

END:VCALENDAR
