BEGIN:VCALENDAR
VERSION:2.0
PRODID:-//ChamberMaster//Event Calendar 2.0//EN
METHOD:PUBLISH
X-PUBLISHED-TTL:P3D
REFRESH-INTERVAL:P3D
CALSCALE:GREGORIAN
BEGIN:VEVENT
DTSTART:20230718T220000Z
DTEND:20230719T000000Z
X-MICROSOFT-CDO-ALLDAYEVENT:FALSE
SUMMARY:Free Concert at Holts Landing State Park and Family Fun Nite - food available for purchase
DESCRIPTION:Free Concerts every Tuesday at Holts Landing State Park\n\n7/18 The performers will be "Charlie & The Cooltones" Buck Owens to Bruce Springsteen.\n\nBring a chair and join us in the Grove under tall shade trees with a breeze from the bay.\n\n\n\nFood will be available for purchase from the Inland Bays Foundation - Burgers and hot dogs\, drinks\, condiments\, sides\, and homemade cookies and/or brownies for sale.  All proceeds will go to the Austin Moyer Chin Program that Publishes the "Citizen's Advocacy Guide To Environmental Advocacy" by Prof Ken Kristl\, Professor of Law and Director of the Environmental and Natural Resources Law Clinic at Widener University Delaware Law School. Copies will be available during the concerts for a small donation.
X-ALT-DESC;FMTTYPE=text/html:<span style="color:#333333"><span style="font-family:arial\,sans-serif"><span style="font-size:10.0pt">Free Concerts every Tuesday at Holts Landing State Park</span></span></span><br />\n<span style="font-size:12px"><span style="font-family:arial\,helvetica\,sans-serif">7/18 The performers will be &quot\;Charlie &amp\; The Cooltones&quot\; Buck Owens to Bruce Springsteen.<br />\nBring a chair and join us in the Grove under tall shade trees with a breeze from the bay.<br />\n<br />\nFood will be available for purchase from the Inland Bays Foundation -&nbsp\;Burgers and hot dogs\, drinks\, condiments\, sides\, and homemade cookies and/or brownies for sale.&nbsp\; All proceeds will go to the Austin Moyer Chin Program that Publishes the &quot\;Citizen&#39\;s Advocacy Guide To Environmental Advocacy&quot\; by Prof Ken Kristl\, Professor of Law and Director of the Environmental and Natural Resources Law Clinic at Widener University Delaware Law School. Copies will be available during the concerts for a small donation.</span></span>
LOCATION:27046 Holts Landing Road\, Dagsboro\, DE 19939
UID:e.2126.26158
SEQUENCE:3
DTSTAMP:20260420T230735Z
URL:http://business.thequietresorts.com/events/details/free-concert-at-holts-landing-state-park-07-18-2023-26158
END:VEVENT

END:VCALENDAR
