BEGIN:VCALENDAR
VERSION:2.0
PRODID:-//ChamberMaster//Event Calendar 2.0//EN
METHOD:PUBLISH
X-PUBLISHED-TTL:P3D
REFRESH-INTERVAL:P3D
CALSCALE:GREGORIAN
BEGIN:VEVENT
DTSTART:20230711T220000Z
DTEND:20230712T000000Z
X-MICROSOFT-CDO-ALLDAYEVENT:FALSE
SUMMARY:Free Concert at Holts Landing State Park
DESCRIPTION:Free Concerts every Tuesday at Holts Landing State Park\n\n7/11 The performers will be "De Tierra Calliente Trio" Latin Party Music.\n\n?Bring a chair and join us in the Grove under tall shade trees with a breeze from the bay.
X-ALT-DESC;FMTTYPE=text/html:<span style="font-family:arial\,sans-serif\; font-size:10pt">Free Concerts every Tuesday at Holts Landing State Park</span><br />\n<span style="font-family:arial\,sans-serif\; font-size:10pt">7/11 The performers will be &quot\;De Tierra Calliente Trio&quot\; Latin Party Music.<br />\n?Bring a chair and join us in the Grove under tall shade trees with a breeze from the bay.</span><br />\n&nbsp\;
LOCATION:27046 Holts Landing Road\, Dagsboro\, DE 19939
UID:e.2126.26157
SEQUENCE:3
DTSTAMP:20260420T230734Z
URL:http://business.thequietresorts.com/events/details/free-concert-at-holts-landing-state-park-07-11-2023-26157
END:VEVENT

END:VCALENDAR
