BEGIN:VCALENDAR
VERSION:2.0
PRODID:-//ChamberMaster//Event Calendar 2.0//EN
METHOD:PUBLISH
X-PUBLISHED-TTL:P3D
REFRESH-INTERVAL:P3D
CALSCALE:GREGORIAN
BEGIN:VEVENT
DTSTART:20230704T220000Z
DTEND:20230705T000000Z
X-MICROSOFT-CDO-ALLDAYEVENT:FALSE
SUMMARY:Free Concert at Holts Landing State Park
DESCRIPTION:Free Concerts every Tuesday at Holts Landing State Park\n\n7/4 The performer will be "Honey Badgers" Modern Folk/Singer Songwriter.\n\nBring a chair and join us in the Grove under tall shade trees with a breeze from the bay.
X-ALT-DESC;FMTTYPE=text/html:Free Concerts every Tuesday at Holts Landing State Park<br />\n7/4 The performer will be &quot\;Honey Badgers&quot\; Modern Folk/Singer Songwriter.<br />\nBring a chair and join us in the Grove under tall shade trees with a breeze from the bay.<br />\n&nbsp\;
LOCATION:27046 Holts Landing Road\, Dagsboro\, DE 19939
UID:e.2126.26156
SEQUENCE:3
DTSTAMP:20260421T005002Z
URL:http://business.thequietresorts.com/events/details/free-concert-at-holts-landing-state-park-07-04-2023-26156
END:VEVENT

END:VCALENDAR
