BEGIN:VCALENDAR
VERSION:2.0
PRODID:-//ChamberMaster//Event Calendar 2.0//EN
METHOD:PUBLISH
X-PUBLISHED-TTL:P3D
REFRESH-INTERVAL:P3D
CALSCALE:GREGORIAN
BEGIN:VEVENT
DTSTART:20240625T220000Z
DTEND:20240626T000000Z
X-MICROSOFT-CDO-ALLDAYEVENT:FALSE
SUMMARY:Free Concert at Holts Landing State Park
DESCRIPTION:Mark Lentz - (Classic and Original Acoustic Rock) at 6:00 PM\n\nhttps://www.facebook.com/markjlentz\n\n\n\nBring a picnic supper and chairs\, sit under the trees with a cool breeze from the Indian River Bay. The concert is free but the parking is $4 per instate car.
X-ALT-DESC;FMTTYPE=text/html:<strong>Mark Lentz</strong> - (Classic and Original Acoustic Rock) at 6:00 PM<br />\nhttps://www.facebook.com/markjlentz<br />\n<br />\nBring a picnic supper and chairs\, sit under the trees with a cool breeze from the Indian River Bay. The concert is free but the parking is $4 per instate car.
LOCATION:27046 Holts Landing Rd. Dagsboro\, DE 19939
UID:e.2126.30228
SEQUENCE:3
DTSTAMP:20260420T091334Z
URL:http://business.thequietresorts.com/events/details/free-concert-at-holts-landing-state-park-06-25-2024-30228
END:VEVENT

END:VCALENDAR
