BEGIN:VCALENDAR
VERSION:2.0
PRODID:-//ChamberMaster//Event Calendar 2.0//EN
METHOD:PUBLISH
X-PUBLISHED-TTL:P3D
REFRESH-INTERVAL:P3D
CALSCALE:GREGORIAN
BEGIN:VEVENT
DTSTART:20240618T220000Z
DTEND:20240619T000000Z
X-MICROSOFT-CDO-ALLDAYEVENT:FALSE
SUMMARY:Free Concert at Holts Landing State Park
DESCRIPTION:Second Chance Blues - (Acoustic Duo\; Classic Rock\, Oldies\, Motown\, Country) at 6:00 PM\n\nSecond Chances Blues was formed after a quarter century of playing in cover bands- returning to the Blues\, R&B\, and Classic Soul. Having found several kindred spirits in their performing past\, they set out to a recording studio with little hope of creating nothing more than a disc to play for our respective families\, retirement was postponed in favor of continued weekly bookings! The moral of the story? DO WHAT YOU LOVE   YOU'LL BE GLAD YOU DID!\n\nhttps://www.facebook.com/secondchancebluesband/\n\n\n\nBring your dinner and chairs for a fun evening concert under the trees with a cool breeze from the Indian River Bay.
X-ALT-DESC;FMTTYPE=text/html:<strong>Second Chance Blues</strong> - (Acoustic Duo\; Classic Rock\, Oldies\, Motown\, Country) at 6:00 PM<br />\nSecond Chances Blues was formed after a quarter century of playing in cover bands- returning to the Blues\, R&amp\;B\, and Classic Soul. Having found several kindred spirits in their performing past\, they set out to a recording studio with little hope of creating nothing more than a disc to play for our respective families\, retirement was postponed in favor of continued weekly bookings! The moral of the story? DO WHAT YOU LOVE &ndash\; YOU&#39\;LL BE GLAD YOU DID!<br />\nhttps://www.facebook.com/secondchancebluesband/<br />\n<br />\nBring your dinner and chairs for a fun evening concert under the trees with a cool breeze from the Indian River Bay.
LOCATION:27046 Holts Landing Rd. Dagsboro\, DE 19939
UID:e.2126.30227
SEQUENCE:3
DTSTAMP:20260420T091338Z
URL:http://business.thequietresorts.com/events/details/free-concert-at-holts-landing-state-park-06-18-2024-30227
END:VEVENT

END:VCALENDAR
