BEGIN:VCALENDAR
VERSION:2.0
PRODID:-//ChamberMaster//Event Calendar 2.0//EN
METHOD:PUBLISH
X-PUBLISHED-TTL:P3D
REFRESH-INTERVAL:P3D
CALSCALE:GREGORIAN
BEGIN:VEVENT
DTSTART:20240612T220000Z
DTEND:20240613T000000Z
X-MICROSOFT-CDO-ALLDAYEVENT:FALSE
SUMMARY:FREE Concert at Evans Park
DESCRIPTION:Join the Town of Millville for a FREE concert with "The Funsters".\n\n\n\nCome to Evans Park from 6pm-8pm on Wednesday\, June 12th for a night of music and food trucks!\n\n\n\nBring the family and a blanket or chair.
X-ALT-DESC;FMTTYPE=text/html:Join the Town of Millville for a FREE concert with &quot\;The Funsters&quot\;.<br />\n<br />\nCome to Evans Park from 6pm-8pm on Wednesday\, June 12th for a night of music and food trucks!<br />\n<br />\nBring the family and a blanket or chair.
LOCATION:Millville Community Center Evans Park 32517 Dukes Rd. Millville\, DE 19967
UID:e.2126.30127
SEQUENCE:3
DTSTAMP:20260420T104705Z
URL:http://business.thequietresorts.com/events/details/free-concert-at-evans-park-30127
END:VEVENT

END:VCALENDAR
