BEGIN:VCALENDAR
VERSION:2.0
PRODID:-//ChamberMaster//Event Calendar 2.0//EN
METHOD:PUBLISH
X-PUBLISHED-TTL:P3D
REFRESH-INTERVAL:P3D
CALSCALE:GREGORIAN
BEGIN:VEVENT
DTSTART:20230719T220000Z
DTEND:20230720T000000Z
X-MICROSOFT-CDO-ALLDAYEVENT:FALSE
SUMMARY:Free Concert at Evans Park
DESCRIPTION:Evans Park will be jamming this summer with a series of FREE concerts on the third Wednesday of May\, June\, and July from 6:00PM to 8:00PM.  Bring your lawn chair\, relax and enjoy local music and delicious food from local food trucks!  On Wednesday\, July 19th\, ON THE EDGE will play a mix of pop\, rock and dance music.
X-ALT-DESC;FMTTYPE=text/html:Evans Park will be jamming this summer with a series of FREE concerts on the third Wednesday of May\, June\, and July from 6:00PM to 8:00PM.&nbsp\; Bring your lawn chair\, relax and enjoy local music and delicious food from local food trucks!&nbsp\; On Wednesday\, July 19th\, ON THE EDGE will play a mix of pop\, rock and dance music.&nbsp\;
LOCATION:Evans Park 32517 Dukes Dr. Millville\, DE\,19967
UID:e.2126.26403
SEQUENCE:3
DTSTAMP:20260420T230324Z
URL:http://business.thequietresorts.com/events/details/free-concert-at-evans-park-26403
END:VEVENT

END:VCALENDAR
