BEGIN:VCALENDAR
VERSION:2.0
PRODID:-//ChamberMaster//Event Calendar 2.0//EN
METHOD:PUBLISH
X-PUBLISHED-TTL:P3D
REFRESH-INTERVAL:P3D
CALSCALE:GREGORIAN
BEGIN:VEVENT
DTSTART:20231021T150000Z
DTEND:20231021T180000Z
X-MICROSOFT-CDO-ALLDAYEVENT:FALSE
SUMMARY:Frankford Fall Festival 2023
DESCRIPTION:The Town of Frankford with assistance from local churches\, the library\, and the Frankford Volunteer Fire Company will sponsor their Annual Fall Festival and Costumer Contest on Saturday\, October 21st!  Like lsat year\, all portions of the event will take place at the Town Park.  Registration for the costume contest is at the park beginning at 11:00AM with judging at 11:30Am.  A short parade around the park will also begin at 11:30AM.  Come out for the costume contest or to enjoy fun games\, hay wagon rides\, food\, and more from 11:00AM - 2:00PM!\n\n\n\nCostume Contest\n\n11:00 AM - Registration \n\n11:30 AM - Parade Around the Park \n\n\n\nAge Groups & Categories \n\nUnder 2 and 3-4:\n\n	Funniest\n	Most Original\n	Best Princess/Prince\n	Best Cartoon\n\nAges 5-6\, 7-9\, 10-12:\n\n\n	Scariest\n	Most Original\n	Most Realistic\n	Funniest\n\nWinners announced beginning at 12:15PM!
X-ALT-DESC;FMTTYPE=text/html:The Town of Frankford with assistance from local churches\, the library\, and the Frankford Volunteer Fire Company will sponsor their Annual Fall Festival and Costumer Contest on Saturday\, October 21st!&nbsp\; Like lsat year\, all portions of the event will take place at the Town Park.&nbsp\; Registration for the costume contest is at the park beginning at 11:00AM with judging at 11:30Am.&nbsp\; A short parade around the park will also begin at 11:30AM.&nbsp\; Come out for the costume contest or to enjoy fun games\, hay wagon rides\, food\, and more from 11:00AM - 2:00PM!<br />\n<br />\n<u><strong>Costume Contest</strong></u><br />\n11:00 AM - Registration&nbsp\;<br />\n11:30 AM - Parade Around the Park&nbsp\;<br />\n<br />\n<u>Age Groups &amp\; Categories&nbsp\;</u><br />\nUnder 2 and 3-4:\n<ul>\n	<li>Funniest</li>\n	<li>Most Original</li>\n	<li>Best Princess/Prince</li>\n	<li>Best Cartoon</li>\n</ul>\nAges 5-6\, 7-9\, 10-12:\n\n<ul>\n	<li>Scariest</li>\n	<li>Most Original</li>\n	<li>Most Realistic</li>\n	<li>Funniest</li>\n</ul>\nWinners announced beginning at 12:15PM!
LOCATION:Frankford Town Park 28 Clayton Ave. Frankford\, DE 19945
UID:e.2126.27010
SEQUENCE:3
DTSTAMP:20260420T182930Z
URL:http://business.thequietresorts.com/events/details/frankford-fall-festival-2023-27010
END:VEVENT

END:VCALENDAR
