BEGIN:VCALENDAR
VERSION:2.0
PRODID:-//ChamberMaster//Event Calendar 2.0//EN
METHOD:PUBLISH
X-PUBLISHED-TTL:P3D
REFRESH-INTERVAL:P3D
CALSCALE:GREGORIAN
BEGIN:VEVENT
DTSTART:20230225T000000Z
DTEND:20230225T010000Z
X-MICROSOFT-CDO-ALLDAYEVENT:FALSE
SUMMARY:Francis Menotti
DESCRIPTION:With two decades of professional performance and the creation of illusions\, Francis Menotti specializes in original\, made-to-order magic experiences for film\, theatre\, and television. Considered one of the most creative minds in magic today\, he's had his hand in productions like "The Immigrant" and "The Magnificent Seven\," and was the full-time on-set magic consultant for ABC's magic crime drama\, "Deception\," as well as LA's Geffen Playhouse productions "Mysterious Circumstances" and "The Enigmatist."\n\nIn 2015\, Menotti became one of the first few to fool Penn and Teller on their hit show\, "Fool Us\," and made his second Fool Us appearance in 2020! He currently resides in West Philadelphia with performance and life partner Lindsey Noel as one half of Couple of Magicians.
X-ALT-DESC;FMTTYPE=text/html:<p>With two decades of professional performance and the creation of illusions\, Francis Menotti specializes in original\, made-to-order magic experiences for film\, theatre\, and television. Considered one of the most creative minds in magic today\, he&rsquo\;s had his hand in productions like &ldquo\;The Immigrant&rdquo\; and &ldquo\;The Magnificent Seven\,&rdquo\; and was the full-time on-set magic consultant for&nbsp\;ABC&rsquo\;s magic crime drama\, &ldquo\;Deception\,&rdquo\; as well as LA&rsquo\;s Geffen Playhouse productions &ldquo\;Mysterious Circumstances&rdquo\; and &ldquo\;The Enigmatist.&rdquo\;</p>\n\n<p>In 2015\, Menotti became one of the first few to fool Penn and Teller on their hit show\, &ldquo\;Fool Us\,&rdquo\; and made his second Fool Us appearance in 2020! He currently resides in West Philadelphia with performance and life partner Lindsey Noel as one half of&nbsp\;<em>Couple of Magicians</em>.&nbsp\;</p>\n
LOCATION:Dickens Parlour Theatre 31810 Good Earth Lane Ocean View\, DE 19970
UID:e.2126.25160
SEQUENCE:3
DTSTAMP:20260421T073617Z
URL:http://business.thequietresorts.com/events/details/francis-menotti-25160
END:VEVENT

END:VCALENDAR
