BEGIN:VCALENDAR
VERSION:2.0
PRODID:-//ChamberMaster//Event Calendar 2.0//EN
METHOD:PUBLISH
X-PUBLISHED-TTL:P3D
REFRESH-INTERVAL:P3D
CALSCALE:GREGORIAN
BEGIN:VEVENT
DTSTART:20240309T180000Z
DTEND:20240309T200000Z
X-MICROSOFT-CDO-ALLDAYEVENT:FALSE
SUMMARY:For the Love of Acrylic Flowers at Inland Bays Garden Center
DESCRIPTION:You have seen Sandy Wood's buckets\, tiles\, tubs and slate displayed in our Little Gallery. Her whimsical and casual work is a constant reminder of her love for flowers. Join Sandy in this acrylic art workshop with a focus on floral design. Learn the techniques Sandy uses in her art to create texture through the use of brushes and pallet knives. She will guide you step-by-step as you master the art painting hydrangeas\, daisies and leaves. Everyone takes home a wood slice with their painting. Space is limited.\n\nSandy participated in juried upscale shows in Naples\, Florida\, Bethany Beach\, and was one of the 15 artists showing her work in the Garden Club of America show in Washington D.C. Also\, she received her diploma in Flower Arranging and Floristry from Lifetime Career Schools. Seventeen years ago\, Sandy founded the Bethany Beach Seaside Craft Show held annually on the boardwalk.
X-ALT-DESC;FMTTYPE=text/html:<p>You have seen Sandy Wood&rsquo\;s buckets\, tiles\, tubs and slate displayed in our Little Gallery. Her whimsical and casual work is a constant reminder of her love for flowers. Join Sandy in this acrylic art workshop with a focus on floral design. Learn the techniques Sandy uses in her art to create texture through the use of brushes and pallet knives. She will guide you step-by-step as you master the art painting hydrangeas\, daisies and leaves. Everyone takes home a wood slice with their painting. Space is limited.</p>\n\n<p>Sandy participated in juried upscale shows in Naples\, Florida\, Bethany Beach\, and was one of the 15 artists showing her work in the Garden Club of America show in Washington D.C. Also\, she received her diploma in Flower Arranging and Floristry from Lifetime Career Schools. Seventeen years ago\, Sandy founded the Bethany Beach Seaside Craft Show held annually on the boardwalk.</p>\n
LOCATION:Inland Bays Garden Center 38320 Muddy Neck Road Frankford\, DE\, 19945
UID:e.2126.28464
SEQUENCE:3
DTSTAMP:20260420T074707Z
URL:http://business.thequietresorts.com/events/details/for-the-love-of-acrylic-flowers-at-inland-bays-garden-center-28464
END:VEVENT

END:VCALENDAR
