BEGIN:VCALENDAR
VERSION:2.0
PRODID:-//ChamberMaster//Event Calendar 2.0//EN
METHOD:PUBLISH
X-PUBLISHED-TTL:P3D
REFRESH-INTERVAL:P3D
CALSCALE:GREGORIAN
BEGIN:VEVENT
DTSTART:20230815T230000Z
DTEND:20230816T020000Z
X-MICROSOFT-CDO-ALLDAYEVENT:FALSE
SUMMARY:Floyd Nation: Experience Pink Floyd
DESCRIPTION:TICKETS ARE $25\, CHILDREN 12 AND UNDER ARE FREE TO ATTEND\n\n"By far the most accurate reproduction of Pink Floyd since Pink Floyd themselves. Amazing sound\, amazing lights\, and phenomenal laser show."   Erik Rubietta\n\nFloyd Nation is a U.S.-based Pink Floyd Tribute Band that performs all of your favorite hits from the vast collection of Pink Floyd albums such as The Wall\, Dark Side of the Moon\, Animals\, Wish You Were Here\, Meddle and The Division Bell. You'll be immersed in sound\, lights and lasers as they take you on an epic journey\, bringing back your best memories of some of the most iconic music ever produced. The group's precise tone and extreme accuracy shows their deep respect for the music of one of the most incredible bands to ever take the world stage.
X-ALT-DESC;FMTTYPE=text/html:<h6>TICKETS ARE $25\, CHILDREN 12 AND UNDER ARE FREE TO ATTEND</h6>\n\n<p>&ldquo\;By far the most accurate reproduction of Pink Floyd since Pink Floyd themselves. Amazing sound\, amazing lights\, and phenomenal laser show.&rdquo\; &mdash\; Erik Rubietta</p>\n\n<p>Floyd Nation is a U.S.-based Pink Floyd Tribute Band that performs all of your favorite hits from the vast collection of Pink Floyd albums such as The Wall\, Dark Side of the Moon\, Animals\, Wish You Were Here\, Meddle and The Division Bell. You&rsquo\;ll be immersed in sound\, lights and lasers as they take you on an epic journey\, bringing back your best memories of some of the most iconic music ever produced. The group&rsquo\;s precise tone and extreme accuracy shows their deep respect for the music of one of the most incredible bands to ever take the world stage.</p>\n
LOCATION:Freeman Arts Pavilion a program of the Joshua M. Freeman Foundation is a champion of the arts on Delmarva\, providing diverse arts performances as well as arts access programs for local schools and the community at large. From June-September the Freeman Arts Pavilion is an open-air performance space showcasing music\, dance\, comedy\, theater\, children's programs\, and free events.
UID:e.2126.26122
SEQUENCE:3
DTSTAMP:20260420T212509Z
URL:http://business.thequietresorts.com/events/details/floyd-nation-experience-pink-floyd-26122
END:VEVENT

END:VCALENDAR
