BEGIN:VCALENDAR
VERSION:2.0
PRODID:-//ChamberMaster//Event Calendar 2.0//EN
METHOD:PUBLISH
X-PUBLISHED-TTL:P3D
REFRESH-INTERVAL:P3D
CALSCALE:GREGORIAN
BEGIN:VEVENT
DTSTART;VALUE=DATE:20200523
DTEND;VALUE=DATE:20200526
TRANSP:TRANSPARENT
X-MICROSOFT-CDO-ALLDAYEVENT:TRUE
SUMMARY:Flags for Heroes
DESCRIPTION:In 2019\, 200 flags and over $10\,000 were raised in honor of our veterans\, current service members and local first responders who put their lives on the line to protect us and our freedom. Proceeds were donated to the Dagsboro Botanical Gardens to honor Rotarian Ferdinand Comolli\, Easter Seals Camp Fairlee\, the Delaware National Guard\, and Rotary's "End Polio Now" campaign.\n\n\n\nFlags will be displayed over Memorial weekend and the presentation of Heroes will be held on May 23rd at 1 p.m. Become part of this fun community event by supporting your heroes!\n\n\n\nSponsorship opportunities are available. Please email southernsussexrotary@gmail.com to learn more about the sponsorship opportunities.
X-ALT-DESC;FMTTYPE=text/html:<span style="font-family: arial\;"><span style="font-size: 14px\;">In 2019\, 200 flags and over $10\,000 were raised in honor of our veterans\, current service members and local first responders who put their lives on the line to protect us and our freedom. Proceeds were donated to the Dagsboro Botanical Gardens to honor Rotarian Ferdinand Comolli\, Easter Seals Camp Fairlee\, the Delaware National Guard\, and Rotary&#39\;s &quot\;End Polio Now&quot\; campaign.<br />\n<br />\nFlags will be displayed over Memorial weekend and the presentation&nbsp\;of Heroes will be held on May 23rd at 1 p.m. Become part of this fun community event by supporting your heroes!<br />\n<br />\nSponsorship opportunities are available. Please email <a href="mailto:southernsussexrotary@gmail.com">southernsussexrotary@gmail.com</a>&nbsp\;to learn more about the sponsorship opportunities.&nbsp\;</span></span>
LOCATION:
UID:e.2126.21497
SEQUENCE:3
DTSTAMP:20260425T211604Z
URL:http://business.thequietresorts.com/events/details/flags-for-heroes-21497
END:VEVENT

END:VCALENDAR
