BEGIN:VCALENDAR
VERSION:2.0
PRODID:-//ChamberMaster//Event Calendar 2.0//EN
METHOD:PUBLISH
X-PUBLISHED-TTL:P3D
REFRESH-INTERVAL:P3D
CALSCALE:GREGORIAN
BEGIN:VEVENT
DTSTART:20240511T150000Z
DTEND:20240511T190000Z
X-MICROSOFT-CDO-ALLDAYEVENT:FALSE
SUMMARY:Fit & Fun Field Day at Lord Baltimore Elementary School with QRCF
DESCRIPTION:Come out and support the Special Olympics of Delaware at the "Fit & Fun" Field Day at Lord Baltimore Elementary School on Saturday\, May 11th.\n\n\n\nEnjoy family fun activities including: inflatable basketball & obstacle course\, dunk tanks\, field day games\, face painting\, music\, food\, and more!\n\n\n\nSuggested $5 donation per person (cash only event).\n\n\n\nThis community fundraise benefits the Special Olympics of DE and is hosted by the Quiet Resorts Charitable Foundation.
X-ALT-DESC;FMTTYPE=text/html:Come out and support the Special Olympics of Delaware at the &quot\;Fit &amp\; Fun&quot\; Field Day at Lord Baltimore Elementary School on Saturday\, May 11th.<br />\n<br />\nEnjoy family fun activities including: inflatable basketball &amp\; obstacle course\, dunk tanks\, field day games\, face painting\, music\, food\, and more!<br />\n<br />\nSuggested $5 donation per person (cash only event).<br />\n<br />\nThis community fundraise benefits the Special Olympics of DE and is hosted by the Quiet Resorts Charitable Foundation.
LOCATION:Lord Baltimore Elementary School 120 Atlantic Ave. Ocean View\, DE 19970
UID:e.2126.28541
SEQUENCE:3
DTSTAMP:20260420T041904Z
URL:http://business.thequietresorts.com/events/details/fit-fun-field-day-at-lord-baltimore-elementary-school-with-qrcf-28541
END:VEVENT

END:VCALENDAR
