BEGIN:VCALENDAR
VERSION:2.0
PRODID:-//ChamberMaster//Event Calendar 2.0//EN
METHOD:PUBLISH
X-PUBLISHED-TTL:P3D
REFRESH-INTERVAL:P3D
CALSCALE:GREGORIAN
BEGIN:VEVENT
DTSTART:20230831T230000Z
DTEND:20230901T020000Z
X-MICROSOFT-CDO-ALLDAYEVENT:FALSE
SUMMARY:First State Ballet Theatre
DESCRIPTION:ADMISSION: FREE\n\nFirst State Ballet Theatre brings the beauty and excitement of professional ballet performances to audiences throughout Delaware. The company will perform classical and contemporary highlights\, while audiences enjoy an enchanting performance by bright young dancers performing under the artistic direction of Kirov-trained Pasha Kambalov.
X-ALT-DESC;FMTTYPE=text/html:<h6>ADMISSION: FREE</h6>\n\n<p>First State Ballet Theatre brings the beauty and excitement of professional ballet performances to audiences throughout Delaware. The company will perform classical and contemporary highlights\, while audiences enjoy an enchanting performance by bright young dancers performing under the artistic direction of Kirov-trained Pasha Kambalov.</p>\n
LOCATION:Freeman Arts Pavilion a program of the Joshua M. Freeman Foundation is a champion of the arts on Delmarva\, providing diverse arts performances as well as arts access programs for local schools and the community at large. From June-September the Freeman Arts Pavilion is an open-air performance space showcasing music\, dance\, comedy\, theater\, children's programs\, and free events.
UID:e.2126.26131
SEQUENCE:3
DTSTAMP:20260420T213114Z
URL:http://business.thequietresorts.com/events/details/first-state-ballet-theatre-08-31-2023-26131
END:VEVENT

END:VCALENDAR
