BEGIN:VCALENDAR
VERSION:2.0
PRODID:-//ChamberMaster//Event Calendar 2.0//EN
METHOD:PUBLISH
X-PUBLISHED-TTL:P3D
REFRESH-INTERVAL:P3D
CALSCALE:GREGORIAN
BEGIN:VEVENT
DTSTART:20191206T220000Z
DTEND:20191207T210000Z
X-MICROSOFT-CDO-ALLDAYEVENT:FALSE
SUMMARY:First Friday Opening Reception & Holiday Artisan fair
DESCRIPTION:Meet the artists\, enjoy hors d'oeuvres\, and see the new exhibits featuring a variety of local artists. Plus a special showcase of local artisans in time for the holidays! Browse through a variety of unique\, handmade items including jewelry\, glass\, ceramics\, and more. Free admission. Friday 5-7pm\, Saturday 11-4pm. Complimentary refreshments will be served and admission is free.\n\n \n\nFeatured this month:\n\nThaler Gallery: Annual members Juried Show\n\nGalleria: "Best of 2019" Group Show\n\nStudio E: Small Works\n\nSpotlight Gallery: Bilbo\n\nArtisan Showcase: Debbi Dean-Colley
X-ALT-DESC;FMTTYPE=text/html:<p><span style="font-size: 14px\;"><span style="font-family: arial\;"><span style="color: rgb(62\, 62\, 62)\;">Meet the artists\, enjoy hors d&rsquo\;oeuvres\, and see the new exhibits featuring a variety of local artists. Plus a special showcase of local artisans in time for the holidays! Browse through a variety of unique\, handmade items including jewelry\, glass\, ceramics\, and more. Free admission. Friday 5-7pm\, Saturday 11-4pm. Complimentary refreshments will be served and admission is free.</span></span></span><br />\n&nbsp\;</p>\n\n<p><span style="font-size: 14px\;"><span style="font-family: arial\;"><span style="color: rgb(62\, 62\, 62)\;">Featured this month:<br />\nThaler Gallery: Annual members Juried Show<br />\nGalleria: &quot\;Best of 2019&quot\; Group Show<br />\nStudio E: Small Works<br />\nSpotlight Gallery: Bilbo<br />\nArtisan Showcase: Debbi Dean-Colley</span></span></span></p>\n
LOCATION:Art League of Ocean City 502 94th Street Ocean City MD 21842
UID:e.2126.19446
SEQUENCE:3
DTSTAMP:20260426T034423Z
URL:http://business.thequietresorts.com/events/details/first-friday-opening-reception-holiday-artisan-fair-19446
END:VEVENT

END:VCALENDAR
