BEGIN:VCALENDAR
VERSION:2.0
PRODID:-//ChamberMaster//Event Calendar 2.0//EN
METHOD:PUBLISH
X-PUBLISHED-TTL:P3D
REFRESH-INTERVAL:P3D
CALSCALE:GREGORIAN
BEGIN:VEVENT
DTSTART:20231103T210000Z
DTEND:20231103T230000Z
X-MICROSOFT-CDO-ALLDAYEVENT:FALSE
SUMMARY:First Friday Opening Reception at Ocean City Center for the Arts
DESCRIPTION:Meet the artists\, enjoy hors d'oeuvres\, and see the new exhibits by a variety of local and regional artists. FREE. All are welcome. Beverages sponsored by PKS Investments. Featuring:\n\n\n	Delaware Watercolor Society\n	"Eastern Shore Heritage" group show\, sponsored by the Beach to Bay Heritage Area\n	Helen Smith & Natalie Falk in Studio E\n	Marla Robertson & "The Dude" Bill Todd in the Spotlight Gallery\n	and more!\n\n\nSpecial additions this month\, in conjunction with November's "Eastern Shore Heritage" exhibition:\n\n\n	Learn more about the Beach to Bay Heritage Area\n	Displays from other cultural organizations in our community: Calvin B. Taylor House Museum\, Delmarva Discovery Museum\, and Germantown School.\n	Live music by Stephen Harvey!\n\n\nAnd a first look at proposed mural designs for Ocean City Development Corporation's Ocean Bowl Skate Park Mural.
X-ALT-DESC;FMTTYPE=text/html:<p>Meet the artists\, enjoy hors d&rsquo\;oeuvres\, and see the new exhibits by a variety of local and regional artists. FREE. All are welcome. Beverages sponsored by PKS Investments. Featuring:</p>\n\n<ul>\n	<li><strong>Delaware Watercolor Society</strong></li>\n	<li><strong>&ldquo\;<em>Eastern Shore Heritage</em>&rdquo\;&nbsp\;</strong>group show\, sponsored by the Beach to Bay Heritage Area</li>\n	<li><strong>Helen Smith &amp\; Natalie Falk</strong>&nbsp\;in Studio E</li>\n	<li><strong>Marla Robertson &amp\; &ldquo\;The Dude&rdquo\; Bill Todd&nbsp\;</strong>in the Spotlight Gallery</li>\n	<li>and more!</li>\n</ul>\n\n<p>Special additions this month\, in conjunction with November&rsquo\;s &ldquo\;<em>Eastern Shore Heritage</em>&rdquo\; exhibition:</p>\n\n<ul>\n	<li>Learn more about the&nbsp\;<strong><a href="https://www.beachesbayswaterways.org/" rel="noopener" style="box-sizing: border-box\; outline: none 0px\; color: var(--tec-color-link-accent)\; text-decoration-line: none\; transition: all 0.2s ease 0s\; background: transparent\; -webkit-tap-highlight-color: rgba(0\, 0\, 0\, 0.3)\;" target="_blank">Beach to Bay Heritage Area</a></strong></li>\n	<li>Displays from&nbsp\;<strong>other cultural organizations</strong>&nbsp\;in our community: Calvin B. Taylor House Museum\, Delmarva Discovery Museum\, and Germantown School.</li>\n	<li><strong>Live music</strong>&nbsp\;by Stephen Harvey!</li>\n</ul>\n\n<p>And a first look at proposed mural designs for Ocean City Development Corporation&rsquo\;s Ocean Bowl Skate Park Mural.</p>\n
LOCATION:Art League of Ocean City 502 94th Street Ocean City\, MD 21842
UID:e.2126.27045
SEQUENCE:3
DTSTAMP:20260420T165829Z
URL:http://business.thequietresorts.com/events/details/first-friday-opening-reception-at-ocean-city-center-for-the-arts-27045
END:VEVENT

END:VCALENDAR
