BEGIN:VCALENDAR
VERSION:2.0
PRODID:-//ChamberMaster//Event Calendar 2.0//EN
METHOD:PUBLISH
X-PUBLISHED-TTL:P3D
REFRESH-INTERVAL:P3D
CALSCALE:GREGORIAN
BEGIN:VEVENT
DTSTART:20240105T220000Z
DTEND:20240106T000000Z
X-MICROSOFT-CDO-ALLDAYEVENT:FALSE
SUMMARY:First Friday Opening Reception at Art League of Ocean City
DESCRIPTION:Meet the artists\, enjoy hors d'oeuvres\, and see the new exhibits by a variety of local artists. FREE. All are welcome. Refreshments sponsored by PKS Investments. Featuring:\n\n\n	"Home Sweet Home"\, all-media group show\n	Shared Visions\, collaboration of literary and visual arts\n	Studio Art Quilt Associates ~ Lower Eastern Shore Pod in Studio E\n	Kevin Harris in the Spotlight Gallery\n	Francesca Rendell in the Artisan Showcase\n\n\nVisit our satellite galleries at the Coffee Beanery (94th St) and the Princess Royale (91st St oceanfront) for two additional exhibitions opening January 5.\n\nAt the Coffee Beanery: Madeline Patsel\n\nAt the Princess Royale: Ruth Ann Kaufman
X-ALT-DESC;FMTTYPE=text/html:<p>Meet the artists\, enjoy hors d&rsquo\;oeuvres\, and see the new exhibits by a variety of local artists. FREE. All are welcome. Refreshments sponsored by PKS Investments. Featuring:</p>\n\n<ul>\n	<li><em><strong>&ldquo\;Home Sweet Home&rdquo\;</strong></em>\, all-media group show</li>\n	<li><strong>Shared Visions</strong>\, collaboration of literary and visual arts</li>\n	<li><strong>Studio Art Quilt Associates ~ Lower Eastern Shore Pod</strong>&nbsp\;in Studio E</li>\n	<li><strong>Kevin Harris&nbsp\;</strong>in the Spotlight Gallery</li>\n	<li><strong>Francesca Rendell&nbsp\;</strong>in the Artisan Showcase</li>\n</ul>\n\n<p>Visit our satellite galleries at the Coffee Beanery (94th St) and the Princess Royale (91st St oceanfront) for two additional exhibitions opening January 5.</p>\n\n<p><strong>At the Coffee Beanery:&nbsp\;</strong>Madeline Patsel</p>\n\n<p><strong>At the Princess Royale:&nbsp\;</strong>Ruth Ann Kaufman</p>\n
LOCATION:Art League of Ocean City 502 94th Street Ocean City\, MD 21842
UID:e.2126.27397
SEQUENCE:3
DTSTAMP:20260420T134331Z
URL:http://business.thequietresorts.com/events/details/first-friday-opening-reception-at-art-league-of-ocean-city-27397
END:VEVENT

END:VCALENDAR
