BEGIN:VCALENDAR
VERSION:2.0
PRODID:-//ChamberMaster//Event Calendar 2.0//EN
METHOD:PUBLISH
X-PUBLISHED-TTL:P3D
REFRESH-INTERVAL:P3D
CALSCALE:GREGORIAN
BEGIN:VEVENT
DTSTART:20231201T220000Z
DTEND:20231202T210000Z
X-MICROSOFT-CDO-ALLDAYEVENT:FALSE
SUMMARY:First Friday Opening Reception and Holiday Fair
DESCRIPTION:Meet the artists\, enjoy hors d'oeuvres\, and see the new exhibits by a variety of local and regional artists. FREE. All are welcome. Beverages sponsored by PKS Investments. Featuring:\n\n\n	"Annual Members Juried Show"\n	"Best of 2023"\, featuring award winning artists from the past twelve months.\n	"Small Works" in Studio E\, perfect for the gift-giving season!\n	and more!\n\n\nHoliday Artisan Fair: Friday 5-7PM\, Saturday 11-4PM\n\nStart your holiday shopping here with one-of-a-kind\, handmade gifts you won't find anywhere else. Shop for jewelry\, ceramics\, fiber art\, and more from local artists.\n\nStop by Saturday for children's activities\, bake sale\, and book signings with local authors.
X-ALT-DESC;FMTTYPE=text/html:<p>Meet the artists\, enjoy hors d&rsquo\;oeuvres\, and see the new exhibits by a variety of local and regional artists. FREE. All are welcome. Beverages sponsored by PKS Investments. Featuring:</p>\n\n<ul>\n	<li><strong>&ldquo\;<em>Annual Members Juried Show&rdquo\;</em></strong></li>\n	<li><strong>&ldquo\;<em>Best of 2023&rdquo\;</em></strong><em>\,&nbsp\;</em>featuring award winning artists from the past twelve months.</li>\n	<li><em><strong>&ldquo\;Small Works&rdquo\;</strong></em>&nbsp\;in Studio E\, perfect for the gift-giving season!</li>\n	<li>and more!</li>\n</ul>\n\n<p><strong>Holiday Artisan&nbsp\;Fair</strong>: Friday 5-7PM\,&nbsp\;Saturday 11-4PM</p>\n\n<p>Start your holiday shopping here with one-of-a-kind\, handmade gifts you won&rsquo\;t find anywhere else. Shop for jewelry\, ceramics\, fiber art\, and more from local artists.</p>\n\n<p>Stop by Saturday for children&rsquo\;s activities\, bake sale\, and book signings with local authors.</p>\n
LOCATION:Art League of Ocean City 502 94th Street Ocean City\, MD 21842
UID:e.2126.27052
SEQUENCE:3
DTSTAMP:20260420T164711Z
URL:http://business.thequietresorts.com/events/details/first-friday-opening-reception-and-holiday-fair-27052
END:VEVENT

END:VCALENDAR
