BEGIN:VCALENDAR
VERSION:2.0
PRODID:-//ChamberMaster//Event Calendar 2.0//EN
METHOD:PUBLISH
X-PUBLISHED-TTL:P3D
REFRESH-INTERVAL:P3D
CALSCALE:GREGORIAN
BEGIN:VEVENT
DTSTART:20230804T210000Z
DTEND:20230804T230000Z
X-MICROSOFT-CDO-ALLDAYEVENT:FALSE
SUMMARY:First Friday Block Party
DESCRIPTION:Celebrate our 60th birthday party with us during our expanded First Friday Block Party! Enjoy birthday cake\, new art exhibits\, live music\, free hors d'oeuvres\, artisans\, book signings\, raffle\, community mural\, Kona Ice\, and more! Free and all are welcome. Beverages sponsored by PKS Investments.\n\nFeaturing:\n\n\n	"True to Life: Contemporary Realism"\, featuring John Schisler\, Gordon Inyard\, and Megan Burak-Lowe\n	"Beverly Bassford Memorial Juried Show" on display through August 10.\n	Erika Forsythe in Studio E\n	"White Marlin Open" artwork highlighting sport fishing by Joanne Guilfoil\, Jim Motsko\, and Lisa Marie Penn in Spotlight Gallery\n	Marisa Longo in the Artisan Showcase\n	"There's Lines & There's Shapes"\, featuring Laura Kelley & L. Morgan Kelley in the Staircase Gallery
X-ALT-DESC;FMTTYPE=text/html:<p>Celebrate our 60th birthday party with us during our expanded First Friday Block Party! Enjoy birthday cake\, new art exhibits\, live music\, free hors d&rsquo\;oeuvres\, artisans\, book signings\, raffle\, community mural\, Kona Ice\, and more! Free and all are welcome. Beverages sponsored by PKS Investments.</p>\n\n<p>Featuring:</p>\n\n<ul>\n	<li><strong>&ldquo\;True to Life: Contemporary Realism&rdquo\;\,&nbsp\;featuring John Schisler\, Gordon Inyard\, and Megan Burak-Lowe</strong></li>\n	<li>&ldquo\;Beverly Bassford Memorial Juried Show&rdquo\;&nbsp\;on display through August 10.</li>\n	<li>Erika Forsythe&nbsp\;in Studio E</li>\n	<li>&ldquo\;White Marlin Open&rdquo\;&nbsp\;artwork highlighting sport fishing by&nbsp\;Joanne Guilfoil\, Jim Motsko\, and Lisa Marie Penn&nbsp\;in Spotlight Gallery</li>\n	<li>Marisa Longo&nbsp\;in the Artisan Showcase</li>\n	<li>&ldquo\;There&rsquo\;s Lines &amp\; There&rsquo\;s Shapes&rdquo\;\,&nbsp\;featuring Laura Kelley &amp\; L. Morgan Kelley&nbsp\;in the Staircase Gallery</li>\n</ul>\n
LOCATION:Art League of Ocean City 502 94th Street Ocean City\, MD 21842
UID:e.2126.26417
SEQUENCE:3
DTSTAMP:20260420T212302Z
URL:http://business.thequietresorts.com/events/details/first-friday-block-party-26417
END:VEVENT

END:VCALENDAR
