BEGIN:VCALENDAR
VERSION:2.0
PRODID:-//ChamberMaster//Event Calendar 2.0//EN
METHOD:PUBLISH
X-PUBLISHED-TTL:P3D
REFRESH-INTERVAL:P3D
CALSCALE:GREGORIAN
BEGIN:VEVENT
DTSTART:20240607T210000Z
DTEND:20240607T230000Z
X-MICROSOFT-CDO-ALLDAYEVENT:FALSE
SUMMARY:First Friday at Art League of OC
DESCRIPTION:Meet the artists\, enjoy hors d'oeuvres\, and see the new exhibits by a variety of local artists. FREE. All are welcome. Featuring:\n\n\n	"Where the Sand Meets the Sea: Contemporary Beachscapes" by Michelle Marshall\n	"Skate/Surf" group show\n	"Clay-a-palooza" in Studio E\, featuring the Clay Guild of the Eastern Shore\n	"Various Visuals" by Jack Knight in the Spotlight Gallery\n	Joan Danoff in the Artisan Showcase\n	"Different Imagination" by Elizabeth Grey in the Staircase Gallery\n\n\nSee a display of artwork from the United Way's Lower Shore Visual Arts Addiction Awareness Youth Show\, showcasing artwork by Worcester County middle and high school students. View prints from the "Stigma Highlighted: Portraits of Recovery" exhibition\, featuring twelve portraits of individuals in recovery from four counties (Worcester\, Wicomico\, Talbot\, and Somerset) created by twelve local artists. And learn more from Worcester Goes Purple\, an awareness project to engage the community in preventing substance abuse and promotion of healthy life choices.\n\nWith a special performance by Saltare in Elementis Dance Collective   "Intertidal" & "Global Water Dances". Learn more about the upcoming Dance on the Shore Festival continuing June 8.\n\nPlus live music by Party Shaker Billy Zee!\n\nThe Art League will also announce its 2024 scholarship winners\, continuing its support of local students who are seeking higher education in the arts.
X-ALT-DESC;FMTTYPE=text/html:<p>Meet the artists\, enjoy hors d&rsquo\;oeuvres\, and see the new exhibits by a variety of local artists. FREE. All are welcome. Featuring:</p>\n\n<ul>\n	<li><strong>&ldquo\;Where the Sand Meets the Sea: Contemporary Beachscapes&rdquo\;</strong>&nbsp\;by&nbsp\;<strong>Michelle Marshall</strong></li>\n	<li><strong>&ldquo\;Skate/Surf&rdquo\;</strong>&nbsp\;group show</li>\n	<li><strong>&ldquo\;Clay-a-palooza&rdquo\;</strong>&nbsp\;in Studio E\, featuring the Clay Guild of the Eastern Shore</li>\n	<li><strong>&ldquo\;Various Visuals&rdquo\;&nbsp\;</strong>by&nbsp\;<strong>Jack Knight&nbsp\;</strong>in the Spotlight Gallery</li>\n	<li><strong>Joan Danoff</strong>&nbsp\;in the Artisan Showcase</li>\n	<li><strong>&ldquo\;Different Imagination&rdquo\;</strong>&nbsp\;by&nbsp\;<strong>Elizabeth Grey</strong>&nbsp\;in the Staircase Gallery</li>\n</ul>\n\n<p>See a display of artwork from the&nbsp\;<a href="https://www.uwles.org/lower-shore-addiction-awareness-art-competition" rel="noopener" style="box-sizing: border-box\; outline: none 0px\; color: var(--tec-color-link-accent)\; text-decoration-line: none\; transition: all 0.2s ease 0s\; background: transparent\; -webkit-tap-highlight-color: rgba(0\, 0\, 0\, 0.3)\;" target="_blank">United Way&rsquo\;s</a>&nbsp\;<strong>Lower Shore Visual Arts Addiction Awareness Youth Show\,</strong>&nbsp\;showcasing artwork by Worcester County middle and high school students. View prints from the&nbsp\;<strong>&ldquo\;Stigma Highlighted: Portraits of Recovery&rdquo\;</strong>&nbsp\;exhibition\, featuring twelve portraits of individuals in recovery from four counties (Worcester\, Wicomico\, Talbot\, and Somerset) created by twelve local artists. And learn more from&nbsp\;<a href="https://worcestergoespurple.net/" rel="noopener" style="box-sizing: border-box\; outline: none 0px\; color: var(--tec-color-link-accent)\; text-decoration-line: none\; transition: all 0.2s ease 0s\; background: transparent\; -webkit-tap-highlight-color: rgba(0\, 0\, 0\, 0.3)\;" target="_blank"><strong>Worcester Goes Purple</strong></a>\,&nbsp\;an awareness project to engage the community in preventing substance abuse and promotion of healthy life choices.</p>\n\n<p>With a special performance by&nbsp\;<strong>Saltare in Elementis Dance Collective</strong>&nbsp\;&ndash\; &ldquo\;Intertidal&rdquo\; &amp\; &ldquo\;Global Water Dances&rdquo\;. Learn more about the upcoming&nbsp\;<span style="color:rgb(0\, 0\, 255)"><a href="https://artleagueofoceancity.org/event/dance-on-the-shore-festival-2/" style="box-sizing: border-box\; outline: none 0px\; color: rgb(0\, 0\, 255)\; text-decoration-line: none\; transition: all 0.2s ease 0s\; background: transparent\; -webkit-tap-highlight-color: rgba(0\, 0\, 0\, 0.3)\;">Dance on the Shore Festival</a></span>&nbsp\;continuing June 8.</p>\n\n<p>Plus&nbsp\;<strong>live music</strong>&nbsp\;by Party Shaker Billy Zee!</p>\n\n<p>The Art League will also announce its&nbsp\;<strong>2024 scholarship winners</strong>\, continuing its support of local students who are seeking higher education in the arts.</p>\n
LOCATION:The Art League of Ocean City 502 94th St. Ocean City\, MD 21842.
UID:e.2126.30085
SEQUENCE:3
DTSTAMP:20260420T091156Z
URL:http://business.thequietresorts.com/events/details/first-friday-at-art-league-of-oc-30085
END:VEVENT

END:VCALENDAR
